BEGIN:VCALENDAR
PRODID:NingEventWidget-v1
VERSION:2.0
METHOD:PUBLISH
BEGIN:VEVENT
UID:2508951:Event:297297
DTSTAMP:20260422T105711Z
SUMMARY:LAST NIGHT Zombie Paintball for Two - Includes 100 Rounds of G
 low-in-the-Dark Paintball Ammunition
DESCRIPTION:\nFun for all ages - children under 7 may share a seat fo
 r free with paying adult.\nOnly $10 per person on www.vbhotdeals.com\
 nEvery Friday or Saturday thru November 1st\n50 paintball rounds per p
 erson ($40 value).\n2 locations: Chesapeake and Hampton\nDetails and p
 urchase on www.VBhotdeals.com\n\n\nFor more information visit https:/
 /vbnightlife.com/events/zombie-paintball-for-two-includes-100-rounds-o
 f-glow-in-the-dark-
DTSTART:20141101T220000Z
DTEND:20141102T034500Z
CATEGORIES:halloween, "events in virginia beach", "things to do in vir
 ginia beach"
LOCATION:2 location
WEBSITE:
URL:
CONTACT:
ORGANIZER;CN="VBnightlife.com":https://vbnightlife.com/profile/admin
ATTACH;FMTTYPE="image/jpeg":http://storage.ning.com/topology/rest/1.0/
 file/get/1664250569?profile=original
ATTENDEE;ROLE=REQ-PARTICIPANT;PARTSTAT=ACCEPTED;RSVP=TRUE;CN="VBnightl
 ife.com":https://vbnightlife.com/profile/admin
END:VEVENT
END:VCALENDAR
