BEGIN:VCALENDAR
PRODID:NingEventWidget-v1
VERSION:2.0
METHOD:PUBLISH
BEGIN:VEVENT
UID:2508951:Event:317200
DTSTAMP:20260424T133000Z
SUMMARY:ZOMBIE RESISTANCE AT COLONIAL SHOOTING ACADEMY
DESCRIPTION:\nZombie Resistance!\n\nOctober 29 - 31\n\n5:00 to 8:30 pm
 \n \nDon't miss this fun and challenging event!\n\nShoot zombies with
  a three stage course of fire, featuring flashing lights, active zom
 bie targets and prizes to overall winners! \n\nAll entrants receive a
  Zombie T-shirt!\nFor more details, click the photo or this link: http
 s://www.facebook.com/events/1820942414799027/.\nReminders:\n- Don’t 
 forget your government issued photo ID.\n- Ammo not included in entry 
 fee.\n\nFor more information visit https://vbnightlife.com/events/zomb
 ie-apocalypse-shootout-at-colonial-shooting-academy-1
DTSTART:20151031T210000Z
DTEND:20151101T003000Z
CATEGORIES:"halloween in hampton roads", "halloween events in virginia
  beach"
LOCATION:Colonial Shooting Academy
WEBSITE:http://www.colonialshooting.com/vab/
URL:http://www.colonialshooting.com/vab/
CONTACT:(757) 227-9130
ORGANIZER:VBnightlife.com / vbdaylife
ATTACH;FMTTYPE="image/jpeg":http://storage.ning.com/topology/rest/1.0/
 file/get/1664293396?profile=original
ATTENDEE;ROLE=REQ-PARTICIPANT;PARTSTAT=ACCEPTED;RSVP=TRUE;CN="VBnightl
 ife.com":https://vbnightlife.com/profile/admin
END:VEVENT
END:VCALENDAR
