BEGIN:VCALENDAR
PRODID:NingEventWidget-v1
VERSION:2.0
METHOD:PUBLISH
BEGIN:VEVENT
UID:2508951:Event:350419
DTSTAMP:20260419T130057Z
SUMMARY:ysc
DESCRIPTION:\n\nFor more information visit https://vbnightlife.com/eve
 nts/ysc-fall-fest
DTSTART:20180821T220000Z
DTEND:20180821T230000Z
CATEGORIES:fundraiser
LOCATION:Camp Pendleton
WEBSITE:
URL:
CONTACT:
ORGANIZER;CN="VBnightlife.com":https://vbnightlife.com/profile/admin
ATTACH;FMTTYPE="image/jpeg":
ATTENDEE;ROLE=REQ-PARTICIPANT;PARTSTAT=ACCEPTED;RSVP=TRUE;CN="VBnightl
 ife.com":https://vbnightlife.com/profile/admin
END:VEVENT
END:VCALENDAR
