BEGIN:VCALENDAR
PRODID:NingEventWidget-v1
VERSION:2.0
METHOD:PUBLISH
BEGIN:VEVENT
UID:2508951:Event:39832
DTSTAMP:20260420T150148Z
SUMMARY:YOUR Weekend Update - Virginia Beach Edition
DESCRIPTION:First of all, we'd like to say thank you to everyone who h
 elped us out in the VBNightlife hole #14 at the Hospice Alliance Fundr
 aiser this past Monday. We love you. No, really. Give us some sugar.\n
 \n\"Well it's hard to say what it is I see in yooouuuu.\" Interesting,
  because I know exactly what you see in me. Anyway, did you recognize 
 that song lyric? That's right - it's Sister Hazel, and they're playing
  with Danni Rosner at the 31st Street Stage on Thursday. http://www.vb
 nightlife.com/events/sister-hazel-and-danni-rosner\n\nAfter that, Ryan
  Hines will be keeping the rock going, acoustic style, at Side Street 
 Cantina. And he'll have a drummer there, playing the congas. Ladies, f
 eel free to show him your congas. http://www.vbnightlife.com/events/ry
 an-hines-side-street\n\nSpeaking of ladies, Thursday is also Ladies Ni
 ght at SkyBar. Admission is FREE for ladies and they are offering 50% 
 off all SkyBar memberships (ladies only).\n\nJimmy Hopper has made the
  trip back from Vegas for a benefit show. And he brought his award-win
 ning, symphonic rock with him. The show is at Il Giardino's on Friday,
  and it's to benefit ALS research. http://www.vbnightlife.com/events/j
 immy-hopper-il-giardino\n\nFriday, there's just too damn much good stu
 ff going on for us to pick something. Check this list out for yourself
 : http://www.vbnightlife.com/events/all-events-click-here-395\n\nIt's 
 the Get Big reunion tour. High energy dance band - very talented music
 ians last seen here in 1995. We're lucky to have 'em at South Beach Gr
 ill Saturday night!\n\nAnd on Sunday, our favorite little rock prodigi
 es, Carbon Jam, are playing at South Beach Grill at 6. Go ahead and ha
 ve a few afternoon cocktails ... just don't let the band convince you 
 to buy them any.\n\nIf you're more into parting in the sun, there is a
 lso a great festival going on this weekend at the boardwalk: Sandstock
  - A Tribute to Rock & Roll! Which stage you ask? Come out and try to 
 find us. http://www.vbnightlife.com/events/sandstock-a-tribute-to-rock
 \n\nOne more thing: we are looking for sponsors for the Large Mouth Br
 own Bass Fishing Tournament http://www.vbnightlife.com/events/large-mo
 uth-brown-bass-fishing July 17th! It's great way to promote your busin
 ess while helping children thru the Roc Solid Foundation who strive to
  help children with cancer have fun in spite of their awful circumstan
 ce http://WWW.ROCSOLIDFOUNDATION.org/\n\nHit up Nicole@VBnightlife.com
  to get involved.\n\nFor events in Norfolk and elsewhere in Hampton Ro
 ads click here: NorfolkNightlife.com\n\nAs always, party responsibly a
 nd tip well!\n\nFor more information visit https://vbnightlife.com/eve
 nts/your-weekend-update-virginia-4
DTSTART:20100626T040000Z
DTEND:20100628T035900Z
CATEGORIES:weekend, update
LOCATION:Virginia Beach
WEBSITE:
URL:
CONTACT:
ORGANIZER;CN="VBnightlife.com":https://vbnightlife.com/profile/admin
ATTACH;FMTTYPE="image/jpeg":http://storage.ning.com/topology/rest/1.0/
 file/get/1664109713?profile=original
ATTENDEE;ROLE=REQ-PARTICIPANT;PARTSTAT=ACCEPTED;RSVP=TRUE;CN="VBnightl
 ife.com":https://vbnightlife.com/profile/admin
END:VEVENT
END:VCALENDAR
