BEGIN:VCALENDAR
PRODID:NingEventWidget-v1
VERSION:2.0
METHOD:PUBLISH
BEGIN:VEVENT
UID:2508951:Event:50467
DTSTAMP:20260420T084800Z
SUMMARY:YOUR WEEKEND UPDATE - Virginia Beach and Norfolk
DESCRIPTION:We'd like to issue a warm welcome to our newest HOT DEAL .
  Lendy's now has Karaoke for Kids on Thursday. And while the little on
 es are singing, you can have some of the best wings in town! See more 
 HOT Deals here: http://www.vbnightlife.com/page/hot-deals-1\n\nTonight
 , we'll be out in full force with Marquis Limousine! As if we need a r
 eason to party, we're celebrating the birthdays of Dasha, Vanessa, and
  Tricia. We'll be all over town, including our great new find Cancun F
 iesta on Atlantic Ave near 16th street. Stop by and see us between 8:3
 0 and 9:30 and check out their authentic Mexican fare and great Margar
 itas. After that we will stop by 501 City Grill to see DanZingo!!! At 
 night's end we'll be stopping at the Studio 54 Party with DJ Andy Kim!
  http://www.vbnightlife.com/events/studio-54-party-where-dreams\n\nIf 
 you made it through karaoke, why not have a little more family fun? Ta
 ke the whole fam to Hermitage Museums and Gardens for Friday Night Fil
 ms! This week it's a classic: GHOSTBUSTERS! http://www.vbnightlife.com
 /events/friday-night-films\n\nAnd you can keep the train rolling with 
 the Stockley Gardens festival, which will be going down all day Saturd
 ay and Sunday. http://www.vbnightlife.com/events/2010-stockley-gardens
 -fall\n\nDon't forget the Boy Scout's 100 Year Anniversary Party and F
 undraiser at the Ampitheater! Reese Dalesandro and Artistic Touch Face
 painting will be at our VBnightlife booth (Row G, Booth 6B) decorating
  the little ones. There will be bands and events for the whole family 
 all day. Click here for details! http://www.vbnightlife.com/events/sco
 ut-fest-100-featuring\n\nAfter all that family time, you've earned you
 rself a poker game, and you can do it for a good cause at Poker for Pa
 rkinson's. We're sponsoring this, so the VBNightlife ladies will be ge
 tting body paint done by Jeff Edney. Arrive early and he will adorn yo
 u with his fabulous art work. http://www.vbnightlife.com/events/poker-
 4-parkinsons-casino\n\nOur boy Billy Thayer's moving away, so we're se
 nding him off with a huge party! And what better way to do it than at 
 South Beach Grill with his favorite band, Krunch! Come out and buy him
  a drink. http://www.vbnightlife.com/events/krunch-southbeach-grill-an
 d\n\nSunday Funday is gonna be epic this weekend at the 23rd Annual AT
 &T Town Point Virginia Wine Festival. In addition to all the fermented
  grape juice, there'll be some sweet jams from Lewis McGehee. http://w
 ww.vbnightlife.com/events/23rd-annual-att-town-point\n\nVBNightlife is
  catering to the sports fans this fall! Check out our new tab for Spor
 ts Bars: http://www.vbnightlife.com/page/sports-bars\nThis Sunday, go 
 check out the gridiron action at Chix Sea Grill & Bar! You won't miss 
 a play, and there will be awesome food deals all day.\n\nAs always, pa
 rty responsibly and tip well!\n\nFor more events in Virginia Beach che
 ck out http://www.VBnightlife.com - in Norfolk see http://www.NorfolkN
 ightlife.com\n\nFor more information visit https://vbnightlife.com/eve
 nts/your-weekend-update-virginia-297
DTSTART:20101016T040000Z
DTEND:20101018T035900Z
CATEGORIES:weekend, update
LOCATION:Virginia Beach and Norfolk
WEBSITE:
URL:
CONTACT:
ORGANIZER;CN="VBnightlife.com":https://vbnightlife.com/profile/admin
ATTACH;FMTTYPE="image/jpeg":http://storage.ning.com/topology/rest/1.0/
 file/get/1664121262?profile=original
ATTENDEE;ROLE=REQ-PARTICIPANT;PARTSTAT=ACCEPTED;RSVP=TRUE;CN="VBnightl
 ife.com":https://vbnightlife.com/profile/admin
END:VEVENT
END:VCALENDAR
