BEGIN:VCALENDAR
PRODID:NingEventWidget-v1
VERSION:2.0
METHOD:PUBLISH
BEGIN:VEVENT
UID:2508951:Event:39209
DTSTAMP:20260425T231104Z
SUMMARY:Your Weekend Update - Virginia Beach Edition
DESCRIPTION:Sup, baby? What are you up to after work? Or maybe on your
  lunch break? Want me to give it to you? WHOA WHOA WHOA! I was talking
  about giving you the Weekend Update! Get your mind out of the gutter.
 \n\nFirst, we want to give a big shout-out to Elegant Limo\nand their 
 amazing driver Kristen for taking us out last night to promote the upc
 oming golf tournament for Hospice Alliance.\n\nAnd speaking of the gol
 f tournament, we need 20 girls to help out with the event. It's gonna 
 be an awesome event, and there are all kinds of fun jobs you could do 
 ... organizing contests, caddying for golfers, making out with the Wee
 kend Update guy ... Contact: Debraprice@hrhospicealliance.com or Nicol
 e@VBnightlife.com\n\nThe North American Sand Soccer Championship is th
 is weekend at the beach. If you've never been to one of these, it's wo
 rth checking out. It's a huge event that just keeps getting better. Be
 sides, it'll get you amped for the World Cup! USA! USA!\n\nAlso going 
 on this weekend at the beach is the Hardees Latin Fest! There will be 
 live music, delicious food, and of course DANCING!\n\nOn Friday, Carbo
 n Jam is playing at the 17th Street Stage. These kids make me miss my 
 teenage days of playing music. Well, minus all the acne and surprise e
 rections. Friday's Schedule\n\nSaturday night, Larger Than Life is pla
 ying at New Moon. They're a great cover band with amazing harmonies an
 d a diverse setlist. Think they got their name from that Backstreet Bo
 ys song? Ask them.\n\nOn Sunday, we're gonna keep the party going with
  Kevin Kelly on the deck at Shuckers, then Butter at Mahi Mah's. If we
  can walk that far. Sunday's schedule\n\nAnd as if that wasn't enough,
  Borderline Crazy is playing South Beach Grill on Sunday night. Let's 
 go and get full-on crazy.\n\nNo, but seriously, what are you doing aft
 er work?\n\nclick HERE for Your Weekend Update - Norfolk Edition\n\nFo
 r more information visit https://vbnightlife.com/events/your-weekend-u
 pdate-virginia-2
DTSTART:20100610T040000Z
DTEND:20100614T035900Z
CATEGORIES:weekend, update
LOCATION:VIRGINIA BEACH
WEBSITE:
URL:
CONTACT:
ORGANIZER;CN="VBnightlife.com":https://vbnightlife.com/profile/admin
ATTACH;FMTTYPE="image/jpeg":http://storage.ning.com/topology/rest/1.0/
 file/get/1664111481?profile=original
ATTENDEE;ROLE=REQ-PARTICIPANT;PARTSTAT=ACCEPTED;RSVP=TRUE;CN="VBnightl
 ife.com":https://vbnightlife.com/profile/admin
END:VEVENT
END:VCALENDAR
