BEGIN:VCALENDAR
PRODID:NingEventWidget-v1
VERSION:2.0
METHOD:PUBLISH
BEGIN:VEVENT
UID:2508951:Event:71373
DTSTAMP:20260423T144902Z
SUMMARY:YAAA! for a Cure - Black Tie Bowling
DESCRIPTION:Are you ready for a unique and fun event? YAAA! (Young Adu
 lts for Alzheimer's Awareness) is proud to present YAAA! For a Cure bl
 ack-tie bowling - black tie on top, anything goes on the bottom - to b
 enefit the Alzheimer's Association Southeastern Virginia Chapter. This
  is \"Black Tie\" Hampton Roads style - a little bit of class, a littl
 e bit of sass, mixed in with bowling and bowling alley beer! It doesn'
 t get any better! (Come early to walk the \"red carpet!\")\n$40 per pe
 rson includes bowling, shoes, 2 drink tickets, raffle, pizza, and much
  more! SPACE IS LIMITED - REGISTER TODAY!\n\nFor more information visi
 t https://vbnightlife.com/events/yaaa-for-a-cure-black-tie
DTSTART:20110409T230000Z
DTEND:20110410T030000Z
CATEGORIES:fundraiser, bowl-a-thon
LOCATION:Pinboys at the Beach
WEBSITE:http://alz.kintera.org/faf/home/default.asp?ievent=462453
URL:http://alz.kintera.org/faf/home/default.asp?ievent=462453
CONTACT:(757) 459-2405
ORGANIZER;CN="patricia bartosch":https://vbnightlife.com/profile/patri
 ciabartosch
ATTACH;FMTTYPE="image/jpeg":http://storage.ning.com/topology/rest/1.0/
 file/get/1664134897?profile=original
ATTENDEE;ROLE=REQ-PARTICIPANT;PARTSTAT=ACCEPTED;RSVP=TRUE;CN="Kristy W
 yngaarden":https://vbnightlife.com/profile/KristyWyngaarden463
ATTENDEE;ROLE=REQ-PARTICIPANT;PARTSTAT=ACCEPTED;RSVP=TRUE;CN="patricia
  bartosch":https://vbnightlife.com/profile/patriciabartosch
END:VEVENT
END:VCALENDAR
