BEGIN:VCALENDAR
PRODID:NingEventWidget-v1
VERSION:2.0
METHOD:PUBLISH
BEGIN:VEVENT
UID:2508951:Event:189035
DTSTAMP:20260424T144601Z
SUMMARY:Worrell Bros. 2012 Crew/Customer Reunion / Benefit The Navy Se
 al Foundation
DESCRIPTION:Worrell Brothers Crew & Customer Reunion benefiting The Na
 vy SEAL Foundation SUNDAY MAY 6th 2012 from 2pm to 2am!!! Featuring Th
 e Janitors, Borderline Crazy and Vinyl Headlights! \n This exciting e
 vent will be held May 6, 2012. It is a fund raiser for The Navy SEAL F
 oundation and a Reunion not just for the Worrell Brothers employees bu
 t our 1000's of loyal customers during our tenure from 1968 to 2002.\n
  Our benefit will be an inside and outside event held on location at S
 haka's / Seaside Raw Bar located at 2014 Atlantic Ave, Virginia Beach,
  Va. Shaka's and Seaside Raw Bar are actually two separate restaurants
  located in the same building and operated under one owner. Our event 
 starts at 2 pm and runs throughout, closing down at 2am at the latest.
  We will secure a special event permit to allow the sale of alcoholic 
 beverages outside having two bars, a beer truck, dunk tank, several co
 rn hole boards, etc etc for entertainment.. Food will also be served o
 utside. Both restaurants will also maintain a full bar for service ins
 ide the buildings. Tickets to the event will include entry, one t-shir
 t for the event, all live music (3 bands) and a one pass buffet line.\
 n\nThere will be a main stage setup outside in the parking lot with Th
 e Janitors performing. In addition we have Borderline Crazy and Vinyl 
 Headlights performing on stage inside the restaurants. The bands will 
 perform at different times throughout the day and evening to keep the 
 event entertained at all times.  Ticket are on sale now at http://ww
 w.inticketing.com/events/196285/worrell-bros-2012-crew-customer-reunio
 n-benefit-the-navy-seal-foundation-worrell-bros-2012-crew/\n Or just s
 earch Worrell Bros. Reunion. We are also looking for sponsors for this
  event. If you are interested please private message me and I will be 
 glad to send you all the sponsorship packages and info. Any questions,
  direct them to this page....Thank You,  Jeff Buckethead Jones\n\n\n\
 n\n\n\nFor more information visit https://vbnightlife.com/events/worre
 ll-brothers-crew-customer-reunion
DTSTART:20120506T040000Z
DTEND:20120507T035900Z
CATEGORIES:fundraiser, reunion
LOCATION:Shaka's / Seaside Raw Bar
WEBSITE:http://www.inticketing.com/events/196285/worrell-bros-2012-cre
 w-customer-reunion-benefit-the-navy-seal-foundation-worrell-bros-2012-
 crew/
URL:http://www.inticketing.com/events/196285/worrell-bros-2012-crew-cu
 stomer-reunion-benefit-the-navy-seal-foundation-worrell-bros-2012-crew
 /
CONTACT:
ORGANIZER:VBnightlife.com / vbdaylife.com
ATTACH;FMTTYPE="image/jpeg":http://storage.ning.com/topology/rest/1.0/
 file/get/1664170505?profile=original
ATTENDEE;ROLE=REQ-PARTICIPANT;PARTSTAT=ACCEPTED;RSVP=TRUE;CN="Rolan St
 ears":https://vbnightlife.com/profile/RolanStears
ATTENDEE;ROLE=REQ-PARTICIPANT;PARTSTAT=ACCEPTED;RSVP=TRUE;CN="VBnightl
 ife.com":https://vbnightlife.com/profile/admin
ATTENDEE;ROLE=REQ-PARTICIPANT;PARTSTAT=ACCEPTED;RSVP=TRUE;CN="Jeff (Bu
 cket)":https://vbnightlife.com/profile/JeffreyLJones
END:VEVENT
END:VCALENDAR
