BEGIN:VCALENDAR
PRODID:NingEventWidget-v1
VERSION:2.0
METHOD:PUBLISH
BEGIN:VEVENT
UID:2508951:Event:64908
DTSTAMP:20260419T185913Z
SUMMARY:Winter Wine Tasting
DESCRIPTION:California's Take on Champagne\n\"Champagne Deconstructed\
 "\nEnjoy five fine California still and sparkling wines\nLight hors d'
 ouerves will be served\nWines presented by Amanda Einhorn-Fine Wine Co
 nsultant\nRepublic National Wine Dist.\n\nFor more information visit h
 ttps://vbnightlife.com/events/winter-wine-tasting
DTSTART:20101221T220000Z
DTEND:20101222T000000Z
CATEGORIES:wine, tasting
LOCATION:The New Moon Cafe
WEBSITE:http://www.newmoonvb.com
URL:http://www.newmoonvb.com
CONTACT:(757)437-8230
ORGANIZER;CN="New Moon Cafe":https://vbnightlife.com/profile/PeterFlet
 cher
ATTACH;FMTTYPE="image/jpeg":http://storage.ning.com/topology/rest/1.0/
 file/get/1664125902?profile=original
ATTENDEE;ROLE=REQ-PARTICIPANT;PARTSTAT=ACCEPTED;RSVP=TRUE;CN="New Moon
  Cafe":https://vbnightlife.com/profile/PeterFletcher
END:VEVENT
END:VCALENDAR
