BEGIN:VCALENDAR
PRODID:NingEventWidget-v1
VERSION:2.0
METHOD:PUBLISH
BEGIN:VEVENT
UID:2508951:Event:324388
DTSTAMP:20260420T093028Z
SUMMARY:WINTER WILDLIFE FESTIVAL AT PRINCESS ANNE REC CENTER
DESCRIPTION:Wed, Jan 27 thru Jan 31 - Winter Wildlife Festival, Prince
 ss Anne Recreation Center, 1400 Nimmo Parkway, Virginia Beach. The eve
 nt runs January 29-31 and features educational workshops, outdoor excu
 rsions, children's activities and an exhibit hall at Princess Anne Rec
 reation Center. Winter Wildlife Festival is open to the public with a 
 fee required for most sessions. Registration for excursions and worksh
 ops runs through January 31 or until full. Find event details and a re
 gistration form at VBgov.com/WinterWildlife\n\nFor more information v
 isit https://vbnightlife.com/events/winter-wildlife-festival-at-prince
 ss-anne-rec-center
DTSTART:20160130T230000Z
DTEND:20160131T000000Z
CATEGORIES:"things to do in virginia beach", "\"events", in, virginia,
  beach
LOCATION:PRINCESS ANNE RECREATION CENTER
WEBSITE:
URL:
CONTACT:
ORGANIZER:VBnightlife.com / vbdaylife
ATTACH;FMTTYPE="image/jpeg":http://storage.ning.com/topology/rest/1.0/
 file/get/1664301185?profile=original
ATTENDEE;ROLE=REQ-PARTICIPANT;PARTSTAT=ACCEPTED;RSVP=TRUE;CN="VBnightl
 ife.com":https://vbnightlife.com/profile/admin
END:VEVENT
END:VCALENDAR
