BEGIN:VCALENDAR
PRODID:NingEventWidget-v1
VERSION:2.0
METHOD:PUBLISH
BEGIN:VEVENT
UID:2508951:Event:73826
DTSTAMP:20260420T140841Z
SUMMARY:Wine Social - Open House featuring Live Entertainment by Mitch
  Foutz of Tailgate Down
DESCRIPTION:\nCome take a tour of the area's only Fitness Arena and se
 e what the excitement is all about. People are learning there is a bet
 ter way to train to get into the best shape of your life. We have a ca
 sual event planned for you....come enjoy some wine and light snacks an
 d meet our Trainers, our Chiropractor Dr. Jon Parmiter and Lauren Newm
 an, our Massage Therapist. Live entertainment by Mitch Foutz of Tailga
 te Down. We look forward to meeting you. Raffle for memberships, perso
 nal training and massages........see you here!\n\n\n\n\n\nFor more inf
 ormation visit https://vbnightlife.com/events/wine-social-open-house
DTSTART:20110302T230000Z
DTEND:20110303T010000Z
CATEGORIES:wine, social, -, open, house
LOCATION:HYBRIFIT Integrated Fitness
WEBSITE:http://www.hybrifit.com
URL:http://www.hybrifit.com
CONTACT:757-351-1334
ORGANIZER;CN="Michael Morisi":https://vbnightlife.com/profile/MichaelM
 orisi
ATTACH;FMTTYPE="image/jpeg":http://storage.ning.com/topology/rest/1.0/
 file/get/1664132512?profile=original
ATTENDEE;ROLE=REQ-PARTICIPANT;PARTSTAT=ACCEPTED;RSVP=TRUE;CN="VBnightl
 ife.com":https://vbnightlife.com/profile/admin
ATTENDEE;ROLE=REQ-PARTICIPANT;PARTSTAT=ACCEPTED;RSVP=TRUE;CN="Michael 
 Morisi":https://vbnightlife.com/profile/MichaelMorisi
END:VEVENT
END:VCALENDAR
