BEGIN:VCALENDAR
PRODID:NingEventWidget-v1
VERSION:2.0
METHOD:PUBLISH
BEGIN:VEVENT
UID:2508951:Event:299232
DTSTAMP:20260422T193408Z
SUMMARY:Wine & Live Jazz Jam at our After Work Party at Ammos Restaura
 nt - TONIGHT
DESCRIPTION:\nThe VBnightlife.com Jazz Jam After Work Party is Tonight
  at Ammos Authentic Greek Cuisine (corner of N. Great Neck Rd and Virg
 inia Beach Blvd) Music begins at 6:30.  \n\nEnjoy fabulous live jazz 
 in this beautiful yet casual restaurant (former location of La Chambor
 d.) Enjoy $10 off Bottles of Wine, live jazz and fantastic fresh seafo
 od and Greek cuisine.\n\nThis Wednesday is a slightly different format
  than in weeks past. Michelle King and The Blue Mile will be  spri
 nkling in some Smooth Jazz, R & B and some Pop Jazz favorites. Whatev
 er kind of jazz you like, we got it. Arrive early to ensure seating o
 r call the restaurant to reserve your table - 757 340 4343.  Address
  and Directions: 324 N. Great Neck Road, Virginia Beach\n \n\nEnjoy 
 $10 off all bottles of wine!  No other vouchers, grouons, coupons or 
 hotdeals will be accepted that night\n  \nThere is NO COVER and the
  food is excellent so bring your axe and your appetite! \nWe are Inv
 iting all styles of Jazz Musicians · Jazz Singers · Jazz & Acco
 ustic Jammers ·Contemporary jazz enthusiasts · Smooth Jazz · B
 lues · Musicians ·Jazz Music · Jazz Standards ·   \n\n\nFo
 r more information visit https://vbnightlife.com/events/wine-live-jazz
 -jam-at-our-after-work-party-at-ammos-restaurant
DTSTART:20141112T233000Z
DTEND:20141113T023000Z
CATEGORIES:"jazz jam", "things to do in virginia beach"
LOCATION:Ammos Restaurant
WEBSITE:
URL:
CONTACT:
ORGANIZER;CN="VBnightlife.com":https://vbnightlife.com/profile/admin
ATTACH;FMTTYPE="image/jpeg":http://storage.ning.com/topology/rest/1.0/
 file/get/1664249739?profile=original
ATTENDEE;ROLE=REQ-PARTICIPANT;PARTSTAT=ACCEPTED;RSVP=TRUE;CN="VBnightl
 ife.com":https://vbnightlife.com/profile/admin
END:VEVENT
END:VCALENDAR
