BEGIN:VCALENDAR
PRODID:NingEventWidget-v1
VERSION:2.0
METHOD:PUBLISH
BEGIN:VEVENT
UID:2508951:Event:272028
DTSTAMP:20260422T122816Z
SUMMARY:23rd Annual Wine by Design 2014: A Hot Night in Rio
DESCRIPTION:Wine by Design 2014: A Hot Night in Rio\nFEBRUARY 28, 201
 4\n7-10PM\nJoin us on February 28, from 7-10 p.m. for the 23rd annual 
 Wine by Design, a major fundraising event that supports MOCA’s numer
 ous art education programs. Wine by Design 2014: A Hot Night in Rio, p
 resented by Wheeler Real Estate Investment Trust will be all about Lat
 in flare! Celebrating MOCA's exhibition Vik Muniz: Poetics of Percepti
 on, the event will feature a diverse array of wines from South America
  and a tempting line up of cuisine from some of your favorite local di
 ning establishments. Enjoy browsing (and buying!) at our silent aucti
 on, and move to the music of our entertainers.Monies generated from ti
 cket sales help MOCA offer its Student Art Start program at greatly re
 duced costs to visiting classrooms and other school groups and allows 
 us to provide free programs to a certain number of underserved youth. 
 During the 2012-2013 school year, MOCA provided critical art education
  through its various educational programs to nearly 25,000 students. Y
 our support of Wine by Design helps the museum fill an ever-increasing
  gap created by public school funding cuts; your support also is an in
 vestment in innovative, creative thinking young people!TICKETS:$65 in 
 advance - purchase online now! http://eshop.vamoca.org/shopcart.aspx?
 view=events\n$75 day of event at the door onlyPARTICIPATING RESTAURANT
 S: Abbey Road Pub and RestaurantBaladi Mediterannean CaféBeach Bucke
 t BakeryBeach BullyCabot CreameryEurasia Café and Wine BarGourmet Gan
 gJody’s PopcornJust CupcakesMahi-Mah’sMasala BitesRockafeller’s 
 RestaurantSalaciaSaltSavor the OliveShockley’s Sweet ShoppeTautog’
 sThirty7NorthTradewinds RestaurantAFTER PARTY AT HILTON VIRGINIA BEACH
  OCEANFRONT:Continue your night of fun at Catch 31 inside the Hilton V
 irginia Beach Oceanfront with latin-inspired cocktails!SPECIAL HILTON 
 PACKAGE:Forget the hassle of driving and parking with this special roo
 m package from the Hilton Virginia Beach Oceanfront. Enjoy a one-night
  oceanfront stay along with two Wine by Design tickets, breakfast for 
 two and a complimentary shuttle service all for $345+ tax!IT'S A FUNDR
 AISER!Wine by Design 2014: A Hot Night in Rio! is a FUNdraiser for MOC
 A's year-round educational programs. Thank you for purchasing tickets!
 !Want to be more involved? Contact Amy Walton, Director of Development
 , at 757.425.0000x13 or amy@virginiamoca.org for sponsorship opportuni
 ties or donate to our silent auction. Read our donation request letter
  here, then fill-in and return the donation form. NOTE: Overflow park
 ing for this event will be located across the street at the TowneBank 
 buildings and the Visitor's Center.\n\n\nFor more information visit ht
 tps://vbnightlife.com/events/wine-by-design-2014-a-hot-night-in-rio
DTSTART:20140301T000000Z
DTEND:20140301T030000Z
CATEGORIES:"wine by design", moca, vbnightlife
LOCATION:Viginia MOCA
WEBSITE:
URL:
CONTACT:
ORGANIZER;CN="VBnightlife.com":https://vbnightlife.com/profile/admin
ATTACH;FMTTYPE="image/jpeg":http://storage.ning.com/topology/rest/1.0/
 file/get/1664223853?profile=original
ATTENDEE;ROLE=REQ-PARTICIPANT;PARTSTAT=ACCEPTED;RSVP=TRUE;CN="VBnightl
 ife.com":https://vbnightlife.com/profile/admin
END:VEVENT
END:VCALENDAR
