BEGIN:VCALENDAR
PRODID:NingEventWidget-v1
VERSION:2.0
METHOD:PUBLISH
BEGIN:VEVENT
UID:2508951:Event:190233
DTSTAMP:20260423T100103Z
SUMMARY:Wine by Design 2012: Warhol and Wine!
DESCRIPTION:BUY TICKETS\nVirginia Museum of Contemporary Art presents 
 the 21st Annual Wine by Design fundraiser. This year’s theme is War
 hol & Wine as we raise money for the upcoming Andy Warhol exhibition, 
 opening May 26, 2012. Party in true Warhol style as you enjoy 40+ wine
 s, catering from Hampton Roads’ top chefs, a stellar silent auction,
  celebrity impersonators and more! Live music from Right Time for the 
 Blues and ODU Jazz Trio. Presented by Atlantic Shores Retirement Commu
 nity.\n\n \n\nTickets: $50 MOCA member, $55 non-member. Purchase tick
 ets online. Use coupon code VBNIGHTLIFE and receive $5 off! Visit this
  link to purchase:http://warholandwine.eventbrite.com/\n\n \n\nAttire
 : Cocktail Chic\n\n \n\nParticipating Restaurants:\n\nTerrapin, Euras
 ia, Salacia, Croc’s EcoBistro, Bad Ass Coffee, Baker’s Crust, Bala
 di Mediterranean Café, Beach Bucket Bakery, Bleu Catering, Cabot Chee
 se, Distinctive Catering, Fresh Events Catering, Jody’s Popcorn, Jus
 t Cupcakes, Marchese Italian Market, Savor the Olive, Shockley’s Swe
 et Shop, Surf Club, Tautog’s, Tradewinds.\n\n \n\nExpect an evening
  with a celebrity vibe, and have your portrait created in true Warhol 
 style. Come prepared to party and enjoy fabulous food by local chefs, 
 try a variety of palate pleasing wines, and enjoy our fabulous silent
  auction. PLUS: Craft beer from Charlottesville's STARR HILLbrewery w
 ill be served at the event, and brewmaster Mark Thompson will be servi
 ng up suds!\nWine by Design is presented by Atlantic Shores Retiremen
 t Community, with support from Monarch Bank and the Virginia Beach 
 Hilton Oceanfront.\nTICKETS\n$50 for MOCA members and $55 for non-me
 mbers. BUY TICKETS\nPURCHASE YOUR TICKETS ONLINE, USE COUPON CODE: VB
 NIGHTLIFE AND RECEIVE $5 off member and non-member tickets\nOnline sal
 es only, ust this link  http://warholandwine.eventbrite.com/ to purc
 hase.\nCLICK HERE FOR MORE EVENT DETAILS.\nClick here to preview the S
 ILENT AUCTION.\n\n\n\n\nFor more information visit https://vbnightlife
 .com/events/wine-by-design-2012-warhol-and-wine
DTSTART:20120225T000000Z
DTEND:20120225T030000Z
CATEGORIES:fundraiser, "museum of contemporary art"
LOCATION:MOCA - Museum of Contemporary Art
WEBSITE:
URL:
CONTACT:757-425-0000
ORGANIZER;CN="VBnightlife.com":https://vbnightlife.com/profile/admin
ATTACH;FMTTYPE="image/jpeg":http://storage.ning.com/topology/rest/1.0/
 file/get/1664165059?profile=original
ATTENDEE;ROLE=REQ-PARTICIPANT;PARTSTAT=ACCEPTED;RSVP=TRUE;CN="Rolan St
 ears":https://vbnightlife.com/profile/RolanStears
ATTENDEE;ROLE=REQ-PARTICIPANT;PARTSTAT=ACCEPTED;RSVP=TRUE;CN="VBnightl
 ife.com":https://vbnightlife.com/profile/admin
END:VEVENT
END:VCALENDAR
