BEGIN:VCALENDAR
PRODID:NingEventWidget-v1
VERSION:2.0
METHOD:PUBLISH
BEGIN:VEVENT
UID:2508951:Event:312002
DTSTAMP:20260425T075134Z
SUMMARY:WIN TICKETS TO Def Leppard w/ Styx and Tesla at Farm Bureau Li
 ve
DESCRIPTION:WIN TICKETS TO Def Leppard w/ Styx and Tesla at Farm Burea
 u Live\n\n2 Lawn Seats  - $70 Value\n\nTo enter the contest: Download
  the app using one of the links below and hit the \"Win Stuff\" butt
 on to enter:\n\nVbnightlife App in iTunes: https://itunes.apple.com/u
 s/app/vbnightlife-virginia-beachs/id875920708?mt=8\n\nVBnightlife App 
 in Google Play: https://play.google.com/store/apps/details?id=com.app
 _vbnightlife.layout&hl=en \n\nOr Search VBnightlife in the app stor
 es  \n\nIf you have already downloaded our app, you can enter the con
 test by emailing contest@vbnightlife.com with the subject line DEF L
 EPPARD\n\nWinners will be notified Tuesday June 30th at noon\n\nPurcha
 se Tickets Here;\nhttp://concerts.livenation.com/event/01004E2FAB223E5
 1?tm_link=artist_msg-0_01004E2FAB223E51&crosssite=TM_US:734898:8370\n\
 nMusic Genre: Rock\nDef Leppard are an English rock band formed in 1
 977 in Sheffield as part of the New Wave of British Heavy Metalmovemen
 t. Since 1992, the band has consisted of Rick Savage (bass, backing vo
 cals), Joe Elliott (lead vocals), Rick Allen(drums, backing vocals), P
 hil Collen (guitar, backing vocals), and Vivian Campbell (guitar, back
 ing vocals). This is the band's longest-standing line-up.\n\nFor more 
 information visit https://vbnightlife.com/events/win-tickets
DTSTART:20150626T230000Z
DTEND:20150629T030000Z
CATEGORIES:concert, "def leppard", styx, "things to do in virginia bea
 ch", "concerts in virginia beach"
LOCATION:Farm Bureau Live
WEBSITE:http://concerts.livenation.com/event/01004E27EEA36F7F?tm_link=
 artist_msg-0_01004E27EEA36F7F&crosssite=TM_US:854398:8370
URL:http://concerts.livenation.com/event/01004E27EEA36F7F?tm_link=arti
 st_msg-0_01004E27EEA36F7F&crosssite=TM_US:854398:8370
CONTACT:
ORGANIZER:VBnightlife.com / vbdaylife
ATTACH;FMTTYPE="image/jpeg":http://storage.ning.com/topology/rest/1.0/
 file/get/1664281691?profile=original
ATTENDEE;ROLE=REQ-PARTICIPANT;PARTSTAT=ACCEPTED;RSVP=TRUE;CN="VBnightl
 ife.com":https://vbnightlife.com/profile/admin
END:VEVENT
END:VCALENDAR
