BEGIN:VCALENDAR
PRODID:NingEventWidget-v1
VERSION:2.0
METHOD:PUBLISH
BEGIN:VEVENT
UID:2508951:Event:200742
DTSTAMP:20260419T233509Z
SUMMARY:WIN A FREE OVERNIGHT STAY AT THE SUNSET BEACH RESORT and FREE 
 TICKETS TO DAUGHTRY
DESCRIPTION:We had such a wonderful time at our Beach Bash last Sunday
  we decided to give one lucky VBnightlife member a FREE overnight stay
  at the Sunset Beach Resort in Kiptopeke, VA (just on the other side o
 f the Chesapeake Bay Bridge Tunnel) on the Eastern Shore.  Giveaway w
 ill take place at the North End Wine Tasting on Wednesday July 18th. 
  All you have to do to qualify is attend, find one of our VBnightlife
  girls and get a free raffle ticket! Event is from 6 to 8:30 and the d
 rawing will be held at 8pm.  \n\nhttp://vbnightlife.com/events/north-
 end-wine\n\nWe will also be giving away 2 FREE VIP tickets to the Daug
 htry Concert at Chesapeake City Park on August 17th.  Details on that
  event here: WHISPER CONCERTS PRESENTS: DAUGHTRY\n\nINFORMATION ON TH
 E SUNSET BEACH RESORT:\nWelcome to the Sunset Beach Resort Hotel\nHazy
  pink and blue sunsets. Golden sunsets. Fiery orange sunsets. You'll s
 ee them all when you enjoy the rooms and amenities at Sunset Beach R
 esort.  This classic hotel has just been Newly Renovated with many upg
 rades! Sunset Beach Resort's 38 acre site boasts one of the Eastern Sh
 ore's largest private beaches on the Chesapeake Bay. Located just nort
 h of the Chesapeake Bay Bridge Tunnel at the tip of the Delmarva Penin
 sula, Sunset Beach is surrounded by more than 1800 acres of protected 
 lands in the pristine Eastern Shore of Virginia National Wildlife Refu
 ge and Kiptopeke State Park.  Sunset Beach Resort Hotel is the perfect
  destination for vacations, weekend getaways, special events and wonde
 rful overnight stays on your way to somewhere else. You'll want to get
  here early enough to enjoy the sunset on our private beach or from ou
 r bay side restaurant, the Sunset Grille. We offer a waterfront dinin
 g experience unlike any other on the Eastern Shore, featuring local se
 afood, weekly specials and live music every weekend and holidays, all 
 summer long.  Amenities include free continental breakfast and Wi-Fi, 
 a seasonal pool, pet friendly rooms and glorious sunsets! We offer 64 
 guest rooms and eight suites, some with Jacuzzis. All rooms have been 
 upgraded with new mattresses and linens. We have bicycles available to
  explore the trails at the nearby Wildlife Refuge or Kiptopeke State P
 ark. Cycle to the town of Cape Charles or anyplace else you’d like t
 o go! Kayak rentals available on site, or bring your own! Nearby Bay C
 reek Golf Club features two signature golf courses from Arnold Palmer 
 and Jack Nicklaus and we are happy to make a reservation for you.\n\n\
 n\nFor more information visit https://vbnightlife.com/events/win-a-fre
 e-overnight-stay-at-the-sunset-beach-resort
DTSTART:20120718T220000Z
DTEND:20120719T003000Z
CATEGORIES:giveaway
LOCATION:SURF CLUB OCEAN GRILLE
WEBSITE:
URL:
CONTACT:
ORGANIZER;CN="VBnightlife.com":https://vbnightlife.com/profile/admin
ATTACH;FMTTYPE="image/jpeg":http://storage.ning.com/topology/rest/1.0/
 file/get/1664177744?profile=original
ATTENDEE;ROLE=REQ-PARTICIPANT;PARTSTAT=ACCEPTED;RSVP=TRUE;CN="VBnightl
 ife.com":https://vbnightlife.com/profile/admin
END:VEVENT
END:VCALENDAR
