BEGIN:VCALENDAR
PRODID:NingEventWidget-v1
VERSION:2.0
METHOD:PUBLISH
BEGIN:VEVENT
UID:2508951:Event:300695
DTSTAMP:20260422T222234Z
SUMMARY:WIN A FAMILY 4 PACK TO THE ADVENTURE PARK
DESCRIPTION:There’s nothing like a day at The Adventure Park at Vi
 rginia Aquarium!  Located in the majestic trees of the Aquarium, betw
 een the Marsh Pavilion and the Bay & Ocean Pavilion, you will find our
  amazing “aerial forest park.” The first of its kind in Virginia! 
 Experience “adventure in the trees” on your own or with friends, f
 amily and parties. Ages five to adult are welcome. Looking for Virgini
 a Beach activities? This is a must-do outdoor experience that the whol
 e family can enjoy!\n\n To Win 4 FREE passes ($200 value) simply down
 load the VBnighltife app and fill out the form on the Win Stuff button
  of the app!\n\nWINNER WILL BE ANNOUNCED SUNDAY NOVEMBER 16TH AT NOON\
 n\nFor more information visit https://vbnightlife.com/events/win-a-fam
 ily-4-pack-to-the-adventure-park
DTSTART:20141116T230000Z
DTEND:20141117T000000Z
CATEGORIES:"adventure park", "things to do in virginia beach", "events
  in virginia beach"
LOCATION:CONTEST
WEBSITE:
URL:
CONTACT:
ORGANIZER;CN="VBnightlife.com":https://vbnightlife.com/profile/admin
ATTACH;FMTTYPE="image/jpeg":http://storage.ning.com/topology/rest/1.0/
 file/get/1664253302?profile=original
ATTENDEE;ROLE=REQ-PARTICIPANT;PARTSTAT=ACCEPTED;RSVP=TRUE;CN="VBnightl
 ife.com":https://vbnightlife.com/profile/admin
END:VEVENT
END:VCALENDAR
