BEGIN:VCALENDAR
PRODID:NingEventWidget-v1
VERSION:2.0
METHOD:PUBLISH
BEGIN:VEVENT
UID:2508951:Event:306049
DTSTAMP:20260420T103306Z
SUMMARY:CONTEST EXTENDED • EVENT POSTPONED **WIN 2 TICKETS TO WINE 
 BY DESIGN**
DESCRIPTION:   \nWIN 2 TICKETS TO WINE BY DESIGN $130 VALUE.\n\nTHIS
  EVENT HAS BEEN POSTPONED 1 WEEK TO FEBRUARY 27TH\n\nDownload the app 
 using one of the links below and hit the \"Win Stuff\" button to enter
 :\n\nVbnightlife App in iTunes: https://itunes.apple.com/us/app/vbnig
 htlife-virginia-beachs/id875920708?mt=8\n\nVBnightlife App in Google P
 lay: https://play.google.com/store/apps/details?id=com.app_vbnightlife
 .layout&hl=en \n\nOr Search VBnightlife in the app stores to downl
 oad the app\n\nIf you have already downloaded our app, you can enter t
 he contest by emailing contest@vbnightlife.com with the subject line
  WINE BY DESIGN\n Winner will be notified Thursday February 26th at No
 on\nFeaturing 22 of your favorite local restaurants!\n\nRead details o
 n the event and purchase tickets here: http://virginiamoca.org/wine-d
 esign-havana-nights\n\nGood Luck!\n\nFor more information visit https:
 //vbnightlife.com/events/win-2-tickets-to-wine-by-design
DTSTART:20150226T050000Z
DTEND:20150227T045900Z
CATEGORIES:contest, vbnightlife, "experience vb", "\"coastal", virgini
 a, wine, fest
LOCATION:VBNIGHTLIFE MOBILE APP
WEBSITE:
URL:
CONTACT:
ORGANIZER:VBnightlife.com / vbdaylife/ vbhotdeals
ATTACH;FMTTYPE="image/jpeg":http://storage.ning.com/topology/rest/1.0/
 file/get/1664265122?profile=original
ATTENDEE;ROLE=REQ-PARTICIPANT;PARTSTAT=ACCEPTED;RSVP=TRUE;CN="VBnightl
 ife.com":https://vbnightlife.com/profile/admin
END:VEVENT
END:VCALENDAR
