BEGIN:VCALENDAR
PRODID:NingEventWidget-v1
VERSION:2.0
METHOD:PUBLISH
BEGIN:VEVENT
UID:2508951:Event:196785
DTSTAMP:20260423T062604Z
SUMMARY:Williamsburg Walk to End Alzheimer's™ Kick-Off Party
DESCRIPTION:The Williamsburg Walk to End Alzheimer's™ will be held 
 on the morning of October 27th at the Community Building. On June 9th,
  teams will throw their annual kick-off for the fundraising season!\nF
 eaturing live music from local band London, raffle prizes, walk inform
 ation, and fun! Kick-Off sponsored by the Alzheimer's Association, The
  Cove Tavern, and London.\n\nFor more information visit https://vbnigh
 tlife.com/events/williamsburg-walk-to-end-alzheimer-s-kick-off-party
DTSTART:20120609T220000Z
DTEND:20120610T030000Z
CATEGORIES:kick-off, party
LOCATION:The Cove Tavern
WEBSITE:http://www.alz.org/seva
URL:http://www.alz.org/seva
CONTACT:757-459-2405
ORGANIZER:Alzheimer's Association
ATTACH;FMTTYPE="image/jpeg":http://storage.ning.com/topology/rest/1.0/
 file/get/1664167000?profile=original
ATTENDEE;ROLE=REQ-PARTICIPANT;PARTSTAT=ACCEPTED;RSVP=TRUE;CN="Kristy W
 yngaarden":https://vbnightlife.com/profile/KristyWyngaarden
END:VEVENT
END:VCALENDAR
