BEGIN:VCALENDAR
PRODID:NingEventWidget-v1
VERSION:2.0
METHOD:PUBLISH
BEGIN:VEVENT
UID:2508951:Event:100342
DTSTAMP:20260423T090550Z
SUMMARY:Williams Farm Skate Park Public Information Design Workshop
DESCRIPTION:ATTEND THE PUBLIC WORKSHOP discussing skate park design...
  what do you want to see?\nPresented by Virginia Beach Parks and Recr
 eation\nApril 7, 2011 \nVirginia Beach Parks & Recreation will be hos
 ting a Public Information Design Workshop for the new Williams Farm Sk
 ate Park, which is part of the Council-approved Williams Farm Recreati
 on Center & Park project in the western Bayside area of Virginia Beach
 .\nThe purpose of the workshop is for the public to provide input into
  the design elements of the skate park, which will be sized approximat
 ely 20,000 square-feet, in-ground and concrete, with urban street plaz
 a elements like steps and rails. Plans also include a vert ramp/bowl c
 omponent and a flow park.\nVirginia Beach Parks and Recreation’s vis
 ion is a balanced, sustainable and value-focused system of parks, recr
 eation and public spaces that creates a sense of community. We are acc
 redited by CAPRA, the certifying agency of the National Recreation and
  Park Association.\n\n \n\nFor more information visit https://vbnight
 life.com/events/williams-farm-skate-park
DTSTART:20110407T220000Z
DTEND:20110408T000000Z
CATEGORIES:virginia, beach, city
LOCATION:Diamond Springs Elementary School
WEBSITE:
URL:
CONTACT:
ORGANIZER:VBnightlife.com / vBdaylife.com
ATTACH;FMTTYPE="image/jpeg":http://storage.ning.com/topology/rest/1.0/
 file/get/1664135077?profile=original
ATTENDEE;ROLE=REQ-PARTICIPANT;PARTSTAT=ACCEPTED;RSVP=TRUE;CN="VBnightl
 ife.com":https://vbnightlife.com/profile/admin
END:VEVENT
END:VCALENDAR
