BEGIN:VCALENDAR
PRODID:NingEventWidget-v1
VERSION:2.0
METHOD:PUBLISH
BEGIN:VEVENT
UID:2508951:Event:11669
DTSTAMP:20260425T142405Z
SUMMARY:WILD WEST NIGHT FEATURING TAILGATE DOWN @ HAMPTON STREET FEST
DESCRIPTION:TailGate Down is a Southeast Virginia based, high energy c
 ountry rock band. Moving into their eighth year of performing, TailGat
 e Down continues to build a strong fan base.\n\nwww.tgdcountry.com\n\n
 For more information visit https://vbnightlife.com/events/wild-west-ni
 ght-featuring
DTSTART:20090509T220000Z
DTEND:20090510T030000Z
CATEGORIES:concert, "/", festival
LOCATION:Hampton
WEBSITE:
URL:
CONTACT:
ORGANIZER:Air and space center
ATTACH;FMTTYPE="image/jpeg":http://storage.ning.com/topology/rest/1.0/
 file/get/1664071571?profile=original
ATTENDEE;ROLE=REQ-PARTICIPANT;PARTSTAT=ACCEPTED;RSVP=TRUE;CN="Nicole M
 axino":https://vbnightlife.com/profile/NicoleMaxino
END:VEVENT
END:VCALENDAR
