BEGIN:VCALENDAR
PRODID:NingEventWidget-v1
VERSION:2.0
METHOD:PUBLISH
BEGIN:VEVENT
UID:2508951:Event:8672
DTSTAMP:20260424T045820Z
SUMMARY:WICKED THE MUSICAL @ Chrysler Hall
DESCRIPTION:May 13 - May 31 (times vary)\n\nWicked\nSO MUCH HAPPENED B
 EFORE DOROTHY DROPPED IN.\nLong before that girl from Kansas arrives i
 n Munchkinland, two girls meet in the land of Oz. One - born with emer
 ald green skin - is smart, fiery and misunderstood. The other is beaut
 iful, ambitious and very popular. How these two grow to become the Wic
 ked Witch of the West and Glinda the Good Witch makes for “the most 
 completely satisfying new musical in a long time” (USA Today).\n\nOn
  Broadway and around the world, WICKED has worked its magic on critics
  and audiences alike. Winner of 20 major awards, including a Grammy an
 d three Tony Awards, WICKED is “Broadway’s biggest blockbuster” 
 (The New York Times).\n\nPictured: Marcie Dodd as Elphaba © Joan Marc
 us\n\nOn Sale Date: March 13, 2009 Price: ORCHESTRA US $30.00 - US $75
 .00 DRESS BOX US $75.00 DRESS US $65.00 - US $75.00 BALCONY BOX US $75
 .00 BALCONY US $30.00 - US $75.00 ORCH PIT US $30.00\nChrysler Hall\nD
 owntown Norfolk\n215 St. Paul's Blvd\nNorfolk, VA 23502\n\nFor more in
 formation visit https://vbnightlife.com/events/wicked-the-musical-chry
 sler
DTSTART:20090531T040000Z
DTEND:20090601T035900Z
CATEGORIES:musical
LOCATION:Chrysler Hall
WEBSITE:
URL:
CONTACT:
ORGANIZER;CN="Nicole Maxino":https://vbnightlife.com/profile/NicoleMax
 ino
ATTACH;FMTTYPE="image/jpeg":http://storage.ning.com/topology/rest/1.0/
 file/get/1664070615?profile=original
ATTENDEE;ROLE=REQ-PARTICIPANT;PARTSTAT=ACCEPTED;RSVP=TRUE;CN="Nicole M
 axino":https://vbnightlife.com/profile/NicoleMaxino
END:VEVENT
END:VCALENDAR
