BEGIN:VCALENDAR
PRODID:NingEventWidget-v1
VERSION:2.0
METHOD:PUBLISH
BEGIN:VEVENT
UID:2508951:Event:211717
DTSTAMP:20260420T090536Z
SUMMARY:4th ANNUAL WHRO STROLLING SUPPER PARTY!!!!!
DESCRIPTION:\nPURCHASE YOUR TICKETS HERE: https://www.whro.org/home/su
 pportwhro/specialevents/Strolling+Supper+Ticket+Form?source=EEG1302010
 01\n\nShowcasing Hampton Roads Magazine Platinum Plate Award winners
 .\nSunday, February 17, 2013 4 - 7 pm Norfolk Waterside Marriott\n$50 
 per person ($65 at the door) $650 for a Table of 10* $75 Limited VIP T
 ickets*  Includes a food-themed silent auction, live entertainment and
  samples from  some of Hampton Roads best restaurants as selected by 
 HRM food editor  Patrick Evans-Hylton and his panel of Platinum Plate
  critics.\nLimited VIP Admission Ticket - $75 per person\nThis exclusi
 ve deal includes a general admission ticket plus entrance into the VIP
  Lounge from 3 -4pm, a cooking demonstration by the award-winning Team
  Chesapeake Bay chefs, fresh from victory at the World Food Championsh
 ips in Las Vegas.\nJoin Executive Chef Travis Brust of Williamsburg In
 n, winner of the World Chef Challenge, and team-mates and top placemen
 t finishers Mike Ferrell, chef/owner of Still Worldly Eclectic Tapas i
 n Portsmouth and chef/owner Jerry Weihbrecht of Zoes Steak & Seafood R
 estaurant in Virginia Beach as they create dishes inspired by the trip
 .\n\nPurchase Tickets Now\n*For more information or to purchase a Tabl
 e or VIP tickets,  call (757) 889-9419 or email Laura Payne, Special
  Events Manager.\n All proceeds benefit WHRO.\nParticipating restauran
 ts so far:\nFin Seafood Restaurant\nMallards at the Wharf\nMannino's\n
 Passion the Restaurant\nRajput\nSmokehouse and Cooler Restaurant\nStil
 l\nTerrapin\nTradewinds\nTraditions at Williamsburg Lodge\nZoes\n\nFor
  more information visit https://vbnightlife.com/events/whro-strolling-
 supper-1
DTSTART:20130217T200000Z
DTEND:20130218T000000Z
CATEGORIES:fundraiser, whro, "strolling supper", "hampton roads magazi
 ne", "patrick evans-hylton"
LOCATION:NORFOLK MARRIOTT
WEBSITE:
URL:
CONTACT:
ORGANIZER:VBnightlife.com / NORFOLK NIGHTLIFE
ATTACH;FMTTYPE="image/jpeg":http://storage.ning.com/topology/rest/1.0/
 file/get/1664187262?profile=original
ATTENDEE;ROLE=REQ-PARTICIPANT;PARTSTAT=ACCEPTED;RSVP=TRUE;CN="VBnightl
 ife.com":https://vbnightlife.com/profile/admin
END:VEVENT
END:VCALENDAR
