BEGIN:VCALENDAR
PRODID:NingEventWidget-v1
VERSION:2.0
METHOD:PUBLISH
BEGIN:VEVENT
UID:2508951:Event:160247
DTSTAMP:20260424T104724Z
SUMMARY:Whole Foods is Coming To Virginia Beach!!!
DESCRIPTION:VB to get a taste of Whole Foods\nStore expected to open i
 n 2013\nUpdated: Thursday, 28 Jul 2011, 4:54 PM EDTPublished : Thursda
 y, 28 Jul 2011, 4:53 PM EDT\n\n\nVIRGINIA BEACH, Va. (WAVY) - Whole Fo
 ods Market is coming to Virginia Beach.\nThe natural and organic foods
  supermarket announced Thursday the opening of a new 40,000 square foo
 t store located at 1800 Laskin Road at Republic Road in the Hilltop ar
 ea.\n\"We are excited to have announced our newest location in Virgini
 a Beach, VA. It is our desire to be part of communities enriched with 
 great tradition and values,\" said Whole Foods Market Regional Vice Pr
 esident, Ken Meyer. \"We can assure you that the residents of Virginia
  Beach will have the opportunity to shop in a store that is custom des
 igned for them offering the highest quality natural and organic produc
 t while encouraging economic growth, job creation and community engage
 ment. \"\nMayor William D. Sessoms, Jr. added, \"The fact that we have
  attracted one of the most coveted retailers in the country to our com
 munity validates our strategy for growth and sustainability.\"\nThe st
 ore is expected to open in early 2013. The location will be the larges
 t Whole Foods Market in the region.\nThe only other Whole Foods locati
 on close to Hampton Roads is 142 miles away in Short Pump, right outsi
 de of Richmond.\n \n\n\n\nFor more information visit https://vbnightl
 ife.com/events/whole-foods-is-coming-to-virgi
DTSTART:20110730T040000Z
DTEND:20110801T035900Z
CATEGORIES:whole, foods
LOCATION:Virginia Beach
WEBSITE:
URL:
CONTACT:
ORGANIZER;CN="VBnightlife.com":https://vbnightlife.com/profile/admin
ATTACH;FMTTYPE="image/jpeg":http://storage.ning.com/topology/rest/1.0/
 file/get/1664145881?profile=original
ATTENDEE;ROLE=REQ-PARTICIPANT;PARTSTAT=ACCEPTED;RSVP=TRUE;CN="Rolan St
 ears":https://vbnightlife.com/profile/RolanStears
ATTENDEE;ROLE=REQ-PARTICIPANT;PARTSTAT=ACCEPTED;RSVP=TRUE;CN="VBnightl
 ife.com":https://vbnightlife.com/profile/admin
ATTENDEE;ROLE=REQ-PARTICIPANT;PARTSTAT=TENTATIVE;RSVP=TRUE;CN="Dale Gr
 een":https://vbnightlife.com/profile/DaleGreen
END:VEVENT
END:VCALENDAR
