BEGIN:VCALENDAR
PRODID:NingEventWidget-v1
VERSION:2.0
METHOD:PUBLISH
BEGIN:VEVENT
UID:2508951:Event:20008
DTSTAMP:20260421T165644Z
SUMMARY:WET PARTY @ AVANTI FEATURING DJ VITALI AND DJ BAZZA FROM DC
DESCRIPTION:\n\n10 to 2\n\nFor more information visit https://vbnightl
 ife.com/events/wet-party-avanti-featuring-dj
DTSTART:20090821T040000Z
DTEND:20090822T035900Z
CATEGORIES:dj
LOCATION:Avanti
WEBSITE:
URL:
CONTACT:
ORGANIZER;CN="VBnightlife.com":https://vbnightlife.com/profile/admin
ATTACH;FMTTYPE="image/jpeg":http://storage.ning.com/topology/rest/1.0/
 file/get/1664084863?profile=original
ATTENDEE;ROLE=REQ-PARTICIPANT;PARTSTAT=ACCEPTED;RSVP=TRUE;CN="VBnightl
 ife.com":https://vbnightlife.com/profile/admin
END:VEVENT
END:VCALENDAR
