BEGIN:VCALENDAR
PRODID:NingEventWidget-v1
VERSION:2.0
METHOD:PUBLISH
BEGIN:VEVENT
UID:2508951:Event:17384
DTSTAMP:20260425T125958Z
SUMMARY:West and Daniels live @ Boneshakers
DESCRIPTION:Sunday afternoon show with West and Daniels @ Boneshakers\
 n\nFor more information visit https://vbnightlife.com/events/west-and-
 daniels-live-2
DTSTART:20090719T190000Z
DTEND:20090719T230000Z
CATEGORIES:live, show
LOCATION:Boneshakers
WEBSITE:http://www.westanddaniels.com
URL:http://www.westanddaniels.com
CONTACT:757-440-3650
ORGANIZER:Boneshakers
ATTACH;FMTTYPE="image/jpeg":http://storage.ning.com/topology/rest/1.0/
 file/get/1664082218?profile=original
ATTENDEE;ROLE=REQ-PARTICIPANT;PARTSTAT=ACCEPTED;RSVP=TRUE;CN="Karen Fa
 nn":https://vbnightlife.com/profile/KarenFann
END:VEVENT
END:VCALENDAR
