BEGIN:VCALENDAR
PRODID:NingEventWidget-v1
VERSION:2.0
METHOD:PUBLISH
BEGIN:VEVENT
UID:2508951:Event:18253
DTSTAMP:20260425T130005Z
SUMMARY:West and Daniels live @ Scooter's Sports Bar
DESCRIPTION:Nashville recording artists West and Daniels will be perfo
 rming live @ Scooters in Virginia Beach on S. Lynnhaven Rd from 6:30 t
 il 11\n\nFor more information visit https://vbnightlife.com/events/wes
 t-and-daniels-live-1
DTSTART:20090730T223000Z
DTEND:20090731T030000Z
CATEGORIES:live, show
LOCATION:Scooter's Sports Bar
WEBSITE:http://www.westanddaniels.com
URL:http://www.westanddaniels.com
CONTACT:757-440-3650
ORGANIZER:Scooters
ATTACH;FMTTYPE="image/jpeg":http://storage.ning.com/topology/rest/1.0/
 file/get/1664081308?profile=original
ATTENDEE;ROLE=REQ-PARTICIPANT;PARTSTAT=ACCEPTED;RSVP=TRUE;CN="Karen Fa
 nn":https://vbnightlife.com/profile/KarenFann
END:VEVENT
END:VCALENDAR
