BEGIN:VCALENDAR
PRODID:NingEventWidget-v1
VERSION:2.0
METHOD:PUBLISH
BEGIN:VEVENT
UID:2508951:Event:6825
DTSTAMP:20260422T091415Z
SUMMARY:WEDNESDAY'S BAND / EVENTS LISTING
DESCRIPTION:Abbey Road - Va Beach - OPEN STAGE /w \"DAVID PETRETTO\nCe
 ntral 111 - DJ STEVE ABITBOL\nChrysler Museum Of Art - LIVE JAZZ SERIE
 S - Norfolk 6:15pm\nH2O - NATURE'S CHILD\nHot Tuna - SNACKBAR JONES\nK
 eagans - Town Center - VB 10pm\nKokoamos - DKR (Dave, Kate and Ross)\n
 Lunasea - JACK MOVE\nMurphy's Irish Pub - JAMES WEST\nSouth Beach Gril
 l - HOTCAKES\nTiki Seagrille - Sandbridge Rd - JANITORS\n\nFor more in
 formation visit https://vbnightlife.com/events/wednesdays-band-events-
 3
DTSTART:20090304T050000Z
DTEND:20090305T045900Z
CATEGORIES:live, music
LOCATION:Virginia Beach
WEBSITE:
URL:
CONTACT:
ORGANIZER;CN="Nicole Maxino":https://vbnightlife.com/profile/NicoleMax
 ino
ATTACH;FMTTYPE="image/jpeg":http://storage.ning.com/topology/rest/1.0/
 file/get/1664069022?profile=original
ATTENDEE;ROLE=REQ-PARTICIPANT;PARTSTAT=ACCEPTED;RSVP=TRUE;CN="Nicole M
 axino":https://vbnightlife.com/profile/NicoleMaxino
END:VEVENT
END:VCALENDAR
