BEGIN:VCALENDAR
PRODID:NingEventWidget-v1
VERSION:2.0
METHOD:PUBLISH
BEGIN:VEVENT
UID:2508951:Event:8937
DTSTAMP:20260425T142517Z
SUMMARY:WEDNESDAY BAND/EVENT LISTING
DESCRIPTION:501 - PIZZA NIGHT & HAPPY HOUR\nAbbey Road - OPEN MIC\nAJ 
 Gators - Holland Rd - KARAOKE W/ SCOTTY 9PM\nAJ Gators - Granby - DJ W
 HIT 9PM\nCentral 111 - ANTHONY PAUL'S MUSIC PAGE\nChrysler Museum Of A
 rt - LIVE JAZZ SERIES - Norfolk 6:15pm \"LATIN JAZZ CONSPIRACY\nFarenh
 eil - Norfolk - THE FORCE 10PM\nFinn McCool's - JACK BECKER\nH2O - NAT
 URE'S CHILD\nHot Tuna - SNACKBAR JONES\nKeagans - Town Center - JESSE 
 CHONG\" 10pm\nKincaids - Norfolk LEWIS McGEHEE\"\nKokoamos - DKR - Dav
 e, Kate and Ross\nMambo Room - SALSA PARTY\nMurphy's Irish Pub - JOHN 
 ICKES\nScope - ADMIRALS GAME 7:15\nSouth Beach Grill - HOTCAKES 9PM\nT
 hirsty Camel - Ocean View - Norfolk \"BORDERLINE CRAZY\" acoustic 8pm\
 nTiki Seagrille and Bar - Sandbridge Rd - RHONDELS 6PM\nWells Theatre 
 - Norfolk - ELLA\n\nFor more information visit https://vbnightlife.com
 /events/wednesday-bandevent-listing-2
DTSTART:20090401T220000Z
DTEND:20090401T230000Z
CATEGORIES:live, music, dj, theatre, sports
LOCATION:Virginia Beach
WEBSITE:
URL:
CONTACT:
ORGANIZER;CN="Nicole Maxino":https://vbnightlife.com/profile/NicoleMax
 ino
ATTACH;FMTTYPE="image/jpeg":http://storage.ning.com/topology/rest/1.0/
 file/get/1664070422?profile=original
ATTENDEE;ROLE=REQ-PARTICIPANT;PARTSTAT=ACCEPTED;RSVP=TRUE;CN="Nicole M
 axino":https://vbnightlife.com/profile/NicoleMaxino
END:VEVENT
END:VCALENDAR
