BEGIN:VCALENDAR
PRODID:NingEventWidget-v1
VERSION:2.0
METHOD:PUBLISH
BEGIN:VEVENT
UID:2508951:Event:8520
DTSTAMP:20260425T160325Z
SUMMARY:WEDNESDAY BAND/EVENT LISTING
DESCRIPTION:15th Street Raw Bar - BUTTER\nAbbey Road - OPEN STAGE /w D
 AVID PETRETTO\nBarrel - Portsmouth - Open Mic\nCentral 111 - DJ\nChrys
 ler Museum Of Art - LIVE JAZZ SERIES - Norfolk 6:15pm FORTE JAZZ BAND\
 nFinn McCools - JACK BECKER 9pm\nH2O - NATURE'S CHILD\nHot Tuna - SNAC
 KBAR JONES\nKeagans - Town Center -JESSE CHONG 10pm\nKokoamos - DKR - 
 Dave, Kate and Ross\nLunasea - LUKE TAYLOR\nMambo Room - Norfolk - SAL
 SA PARTY\nMurphy's Irish Pub - VAL LITTLE\nNorva - Norfolk Halestorm +
  SHINSDOWN + SALIVA\nSouth Beach Grill - JANITORS\n\nFor more informat
 ion visit https://vbnightlife.com/events/wednesday-bandevent-listing-1
DTSTART:20090325T220000Z
DTEND:20090325T230000Z
CATEGORIES:live, music
LOCATION:Virginia Beach
WEBSITE:
URL:
CONTACT:
ORGANIZER;CN="Nicole Maxino":https://vbnightlife.com/profile/NicoleMax
 ino
ATTACH;FMTTYPE="image/jpeg":http://storage.ning.com/topology/rest/1.0/
 file/get/1664069871?profile=original
ATTENDEE;ROLE=REQ-PARTICIPANT;PARTSTAT=ACCEPTED;RSVP=TRUE;CN="Nicole M
 axino":https://vbnightlife.com/profile/NicoleMaxino
END:VEVENT
END:VCALENDAR
