BEGIN:VCALENDAR
PRODID:NingEventWidget-v1
VERSION:2.0
METHOD:PUBLISH
BEGIN:VEVENT
UID:2508951:Event:157036
DTSTAMP:20260421T142555Z
SUMMARY:We Want To Heal Clementine!
DESCRIPTION:\n\nFor more information visit https://vbnightlife.com/eve
 nts/we-want-to-heal-clementine
DTSTART:20110723T150000Z
DTEND:20110723T190000Z
CATEGORIES:"virginia beach events", virginia, beach, fundraiser, " ", 
 animal, cruelty, abuse, fred, karam, dizzy, fund, silent, "auction\""
LOCATION:Flea Market @ SoNo
WEBSITE:
URL:
CONTACT:
ORGANIZER:VBnightlife.com / VBdaylife.com
ATTACH;FMTTYPE="image/jpeg":http://storage.ning.com/topology/rest/1.0/
 file/get/1664147114?profile=original
ATTENDEE;ROLE=REQ-PARTICIPANT;PARTSTAT=ACCEPTED;RSVP=TRUE;CN="Rolan St
 ears":https://vbnightlife.com/profile/RolanStears
ATTENDEE;ROLE=REQ-PARTICIPANT;PARTSTAT=ACCEPTED;RSVP=TRUE;CN="VBnightl
 ife.com":https://vbnightlife.com/profile/admin
END:VEVENT
END:VCALENDAR
