BEGIN:VCALENDAR
PRODID:NingEventWidget-v1
VERSION:2.0
METHOD:PUBLISH
BEGIN:VEVENT
UID:2508951:Event:193451
DTSTAMP:20260426T001354Z
SUMMARY:WATERMAN'S CRUSHFEST AT THE HOLIDAY TRAVEL-L PARK
DESCRIPTION:WE'VE BEEN GETTING QUESTIONS ABOUT BRINGING CHAIRS TO THE 
 CAMPGROUND...THIS FIRST YEAR AT THE CAMPGROUND WE WILL NOT BE ALLOWING
  THESE IN TO THE GROUNDS, BUT THERE ARE A TON OF PICNIC TABLES AVAILAB
 LE FOR SEATING!!DUE TO POPULAR DEMAND AND REQUEST, CRUSH FEST 2012 WIL
 L TAKE PLACE AT HOLIDAY TRAV-L-PARK, 2.2 MILES OVER THE RUDEE INLET BR
 IDGE, ON GENERAL BOOTH BLVD (www.campingvb.com). Ride your bike to Wat
 erman's, and hop on the FREE EXPRESS SHUTTLE to head to the best SUNDA
 Y FUNDAY party ever!!CHEAP THRILLS!! SNACKBAR JONES!!1ST SHUTTLE WILL 
 LEAVE WATERMAN'S AT 11:30, RUNNING BACK AND FORTH ALL DAY!THIS IS A 21
 +, CASH-ONLY EVENT, SO MAKE SURE TO BRING YOUR ID & CASH WITH YOU FOR 
 DRINKS. FOOD WILL ALSO BE AVAILABLE - PROVIDED BY QDOBA - FOR $5/PLATE
 , WITH PROCEEDS GOING TO VA GENTLEMEN FOUNDATION!BUY YOUR CRUSH FEST T
 ICKET IN ADVANCE - ON SALE AT THE BEACH NUT NOW, DAILY FROM 11AM TO 9P
 M. $5 ENTRY TICKET GOES DIRECTLY, 100% TO THE VIRGINIA GENTLEMEN FOUND
 ATION TO SUPPORT PROJECTS FOR DISABLED CHILDREN.This year is also the 
 debut of the MISS CRUSH FEST contest, open to all lady Crush lovers. G
 et creative and “wear your best orange” – judges will be walking
  around the event and will hand pick 12 contestants wearing orange (or
  oranges) in the most creative, original way. Those lucky ladies will 
 be judged by the crowd when the official contest takes place on stage 
 at 4:30pm.In addition to other entertainment throughout the afternoon,
  we’ll also have $3000 in raffle prizes to give away…to enter to w
 in, text CRUSHFEST to 71280 and you can register easily, anytime leadi
 ng up to and at the event. Winners will be announced the day after Cru
 sh Fest.Traveling from out of town or don’t want to worry about gett
 ing home after Crush Fest? A few of the nearby hotels are offering Cru
 sh Fest rates for Saturday and Sunday, so book your room now!Ocean Key
  Resort (suites, $89) – Book by calling the front desk at 425-2200.R
 amada on the Beach (oceanfront rooms, $89) – Book here:http://tinyur
 l.com/83l76fmSchooner Inn (oceanfront rooms, $99 Saturday and $59 Sund
 ay) – Book atwww.schoonerinnvb.com\n\nFor more information visit htt
 ps://vbnightlife.com/events/waterman-s-crushfest-at-the-holiday-travel
 -l-park
DTSTART:20120415T160000Z
DTEND:20120416T000000Z
CATEGORIES:fundraiser, "virginia gentlemen"
LOCATION:HOLIDAY TRAV-L PARK
WEBSITE:
URL:
CONTACT:
ORGANIZER:VBnightlife.com / VBdaylife.com
ATTACH;FMTTYPE="image/jpeg":http://storage.ning.com/topology/rest/1.0/
 file/get/1664169335?profile=original
ATTENDEE;ROLE=REQ-PARTICIPANT;PARTSTAT=ACCEPTED;RSVP=TRUE;CN="VBnightl
 ife.com":https://vbnightlife.com/profile/admin
ATTENDEE;ROLE=REQ-PARTICIPANT;PARTSTAT=TENTATIVE;RSVP=TRUE;CN="Jamie S
 hurr Mosher":https://vbnightlife.com/profile/JamieShurrMosher
END:VEVENT
END:VCALENDAR
