BEGIN:VCALENDAR
PRODID:NingEventWidget-v1
VERSION:2.0
METHOD:PUBLISH
BEGIN:VEVENT
UID:2508951:Event:202389
DTSTAMP:20260423T060824Z
SUMMARY:WATCH ECSC LIVE ONLINE!
DESCRIPTION:Can't make it down to the beach to check out the action?!\
 n\nWe got you covered!\n\nWatch ECSC LIVE HERE:\n\nhttp://www.vans.com
 /eventsites/ecsc/webcast-ecsc/\n\nFor more information visit https://v
 bnightlife.com/events/watch-ecsc-live-online
DTSTART:20120826T040000Z
DTEND:20120827T035900Z
CATEGORIES:"virginia beach events", "virgina beach nightlife", "ecsc, 
 ", va, beach, jaycees, ", ", virginia, "surf\""
LOCATION:Anywhere you have internet access!
WEBSITE:http://www.vans.com/eventsites/ecsc/webcast-ecsc/
URL:http://www.vans.com/eventsites/ecsc/webcast-ecsc/
CONTACT:
ORGANIZER;CN="VBnightlife.com":https://vbnightlife.com/profile/admin
ATTACH;FMTTYPE="image/jpeg":http://storage.ning.com/topology/rest/1.0/
 file/get/1664174473?profile=original
ATTENDEE;ROLE=REQ-PARTICIPANT;PARTSTAT=ACCEPTED;RSVP=TRUE;CN="VBnightl
 ife.com":https://vbnightlife.com/profile/admin
END:VEVENT
END:VCALENDAR
