BEGIN:VCALENDAR
PRODID:NingEventWidget-v1
VERSION:2.0
METHOD:PUBLISH
BEGIN:VEVENT
UID:2508951:Event:294949
DTSTAMP:20260425T201724Z
SUMMARY:Walter Beasley In Concert
DESCRIPTION:Friday August 29th Sheraton Norfolk Waterside \nFree tick
 ets for students details here: FREE Student Tickets to Walter Beasley
  at the Sheraton Norfolk Friday Night\n To purchase tickets Click Walt
 er's photo! \n\n\n\nFor Tickets, Click on Walter's photo.\n\n\n\n  \
 n   Sheraton Norfolk Waterside\nInternational Ballroom 777 Watersid
 e Dr.\nNorfolk, VA  23510\n\n  \n \nVIP seats + Seafood Buffet $72
 .50   General Admission - $42.50   Click Walt's photo:Your tickets a
 re waiting. Great gifts for partners, work teams. \n Sponsor Students
  - Free Advertisement for your business - \n \nDonate A Musical Inst
 rument - look under the bed, in the attic, basement:  place that gent
 ly used musical instrument in the hands of a child, get a tax deductio
 n...\n \nContact  www.jazzinformance.com for details.\n\n\n\nFor mo
 re information visit https://vbnightlife.com/events/walter-beasley-in-
 concert
DTSTART:20140829T220000Z
DTEND:20140830T020000Z
CATEGORIES:concert, "walter beasley"
LOCATION:Sheraton Norfolk Waterside
WEBSITE:
URL:
CONTACT:
ORGANIZER:Jazz Informance/ Walter Beasley / VBnightlife / NorfolkNight
 life.com
ATTACH;FMTTYPE="image/jpeg":http://storage.ning.com/topology/rest/1.0/
 file/get/1664247817?profile=original
ATTENDEE;ROLE=REQ-PARTICIPANT;PARTSTAT=ACCEPTED;RSVP=TRUE;CN="Rolan St
 ears":https://vbnightlife.com/profile/RolanStears
ATTENDEE;ROLE=REQ-PARTICIPANT;PARTSTAT=ACCEPTED;RSVP=TRUE;CN="VBnightl
 ife.com":https://vbnightlife.com/profile/admin
END:VEVENT
END:VCALENDAR
