BEGIN:VCALENDAR
PRODID:NingEventWidget-v1
VERSION:2.0
METHOD:PUBLISH
BEGIN:VEVENT
UID:2508951:Event:301830
DTSTAMP:20260423T074516Z
SUMMARY:WALK McDonald's Holiday Lights at the Beach to Benefit Ronald 
 McDonald House
DESCRIPTION:Walk Thru the Lights for Ronald McDonald House Charities: 
  (donations accepted at the entrance at 2nd Street) – RAIN DATE IS 
 THURSDAY, NOVEMBER 20 \nOn the boardwalk between 2nd and 34th Streets
 \n\nenter through the main entrance at 2nd Street, Oceanfront, Virgini
 a Beach. Donations accepted at the entrance. A bus will return walkers
  to 2nd street after the tour ends at 34th street.\n \n \n\n\n\n\n\n
 \n\n\n\n\n\n\n\n\n\n\n\n\nFor more information visit https://vbnightli
 fe.com/events/walk-mcdonald-s-holiday-lights-at-the-beach-to-benefit-r
 onald-mcd
DTSTART:20141119T220000Z
DTEND:20141120T010000Z
CATEGORIES:"virginia beach events", "virginia beach holiday events", "
 virginia beach family fun", "virginia beach christmas lights", "holida
 y lights on the beach", "beach street usa"
LOCATION:2nd - 34th Streets on the Boardwalk
WEBSITE:http://www.beachstreetusa.com/events/McDonaldsHolidayLights
URL:http://www.beachstreetusa.com/events/McDonaldsHolidayLights
CONTACT:
ORGANIZER;CN="VBnightlife.com":https://vbnightlife.com/profile/admin
ATTACH;FMTTYPE="image/jpeg":http://storage.ning.com/topology/rest/1.0/
 file/get/1664252806?profile=original
ATTENDEE;ROLE=REQ-PARTICIPANT;PARTSTAT=ACCEPTED;RSVP=TRUE;CN="Rolan St
 ears":https://vbnightlife.com/profile/RolanStears
ATTENDEE;ROLE=REQ-PARTICIPANT;PARTSTAT=ACCEPTED;RSVP=TRUE;CN="VBnightl
 ife.com":https://vbnightlife.com/profile/admin
END:VEVENT
END:VCALENDAR
