BEGIN:VCALENDAR
PRODID:NingEventWidget-v1
VERSION:2.0
METHOD:PUBLISH
BEGIN:VEVENT
UID:2508951:Event:189490
DTSTAMP:20260423T102705Z
SUMMARY:VOW BRIDAL EVENT
DESCRIPTION:\n\nFor more information visit https://vbnightlife.com/eve
 nts/vow-bridal-event
DTSTART:20120219T160000Z
DTEND:20120219T210000Z
CATEGORIES:bridal
LOCATION:VIRGINIA BEACH CONVENTION CENTER
WEBSITE:
URL:
CONTACT:
ORGANIZER;CN="VBnightlife.com":https://vbnightlife.com/profile/admin
ATTACH;FMTTYPE="image/jpeg":http://storage.ning.com/topology/rest/1.0/
 file/get/1664163601?profile=original
ATTENDEE;ROLE=REQ-PARTICIPANT;PARTSTAT=ACCEPTED;RSVP=TRUE;CN="VBnightl
 ife.com":https://vbnightlife.com/profile/admin
END:VEVENT
END:VCALENDAR
