BEGIN:VCALENDAR
PRODID:NingEventWidget-v1
VERSION:2.0
METHOD:PUBLISH
BEGIN:VEVENT
UID:2508951:Event:20017
DTSTAMP:20260421T060215Z
SUMMARY:VOLCOM SAMPLE SALE @ STAR OF THE SEA CATHOLIC SCHOOL
DESCRIPTION:Chicho's 29th Street\n\nMen's, Juniors, Boys and Accessori
 es\n\nFor more information visit https://vbnightlife.com/events/volcom
 -sample-sale-star-of
DTSTART:20090822T150000Z
DTEND:20090822T190000Z
CATEGORIES:sale
LOCATION:Star of the Sea
WEBSITE:
URL:
CONTACT:
ORGANIZER;CN="VBnightlife.com":https://vbnightlife.com/profile/admin
ATTACH;FMTTYPE="image/jpeg":http://storage.ning.com/topology/rest/1.0/
 file/get/1664089434?profile=original
ATTENDEE;ROLE=REQ-PARTICIPANT;PARTSTAT=ACCEPTED;RSVP=TRUE;CN="Tanja Wi
 lliams":https://vbnightlife.com/profile/TanjaWilliams
ATTENDEE;ROLE=REQ-PARTICIPANT;PARTSTAT=ACCEPTED;RSVP=TRUE;CN="VBnightl
 ife.com":https://vbnightlife.com/profile/admin
END:VEVENT
END:VCALENDAR
