BEGIN:VCALENDAR
PRODID:NingEventWidget-v1
VERSION:2.0
METHOD:PUBLISH
BEGIN:VEVENT
UID:2508951:Event:252477
DTSTAMP:20260425T072810Z
SUMMARY:Virginia Tax Free Weekend August 2nd-4th
DESCRIPTION:\n\n\nAugust Sales Tax Holiday: School Supplies and Clothi
 ng\nWhen: First full weekend of August (Friday, Saturday and Sunday) 
 each year. This year the holiday will take place August 1-3, 2014.\
 nWhat's Exempt: During this three-day period, purchases of qualifying
  school supplies selling for $20 or less per item, and purchases of qu
 alifying clothing and footwear selling for $100 or less per item will 
 be exempt from sales tax. Retailers may also choose to absorb the tax 
 on other items during the holiday period, but they are responsible for
  paying the tax on those items to the Department of Taxation.\nOther I
 nformation:\n\nGuidelines\nFrequently Asked Questions\nLists of Exempt
  School Supplies and Exempt Clothing and Footwear\nTax Holiday Inform
 ation Center\n\n \n\nFor more information visit https://vbnightlife.c
 om/events/virginia-tax-free-weekend-august-2nd-4th
DTSTART:20140801T040000Z
DTEND:20140804T035900Z
CATEGORIES:virginia, "tax free weekend", august, "school supplies"
LOCATION:Virginia
WEBSITE:
URL:
CONTACT:
ORGANIZER;CN="VBnightlife.com":https://vbnightlife.com/profile/admin
ATTACH;FMTTYPE="image/jpeg":http://storage.ning.com/topology/rest/1.0/
 file/get/1664202724?profile=original
ATTENDEE;ROLE=REQ-PARTICIPANT;PARTSTAT=ACCEPTED;RSVP=TRUE;CN="Rolan St
 ears":https://vbnightlife.com/profile/RolanStears
ATTENDEE;ROLE=REQ-PARTICIPANT;PARTSTAT=ACCEPTED;RSVP=TRUE;CN="VBnightl
 ife.com":https://vbnightlife.com/profile/admin
END:VEVENT
END:VCALENDAR
