BEGIN:VCALENDAR
PRODID:NingEventWidget-v1
VERSION:2.0
METHOD:PUBLISH
BEGIN:VEVENT
UID:2508951:Event:188266
DTSTAMP:20260423T074516Z
SUMMARY:VIRGINIA GENTLEMEN SUPERBOWL PARTY AND FUNDRAISER AT CHICKS OY
 STER BAR
DESCRIPTION:$10.00 in advance, $15 at the door. Killer food, all new o
 yster bar, everyone gets 2 free beers, Crushes are $3.00!!! Shots$5.00
  It is going to be a big deal!!!!!!\n\nReserved Tables $150 includes 4
  tickets!!!!   Email billy@vagentlemen.com. \n\nDOORS OPEN AT 5!\n\
 n\nFor more information visit https://vbnightlife.com/events/virginia-
 gentlemen-superbowl-party-and-fundraiser-at-chicks-oyste
DTSTART:20120205T220000Z
DTEND:20120206T040000Z
CATEGORIES:superbowl, fundraiser
LOCATION:CHICKS OYSTER BAR
WEBSITE:
URL:
CONTACT:
ORGANIZER;CN="VBnightlife.com":https://vbnightlife.com/profile/admin
ATTACH;FMTTYPE="image/jpeg":http://storage.ning.com/topology/rest/1.0/
 file/get/1664160818?profile=original
ATTENDEE;ROLE=REQ-PARTICIPANT;PARTSTAT=ACCEPTED;RSVP=TRUE;CN="VBnightl
 ife.com":https://vbnightlife.com/profile/admin
END:VEVENT
END:VCALENDAR
