BEGIN:VCALENDAR
PRODID:NingEventWidget-v1
VERSION:2.0
METHOD:PUBLISH
BEGIN:VEVENT
UID:2508951:Event:324181
DTSTAMP:20260423T040938Z
SUMMARY:Virginia Beach Shag Club Mix & Mingle
DESCRIPTION:Va Beach Shag Club weekly mix & mingle dance social.  Fre
 e Carolina Shag dance and line dance lessons start at 6:30. Open danci
 ng starts at 7:30.  We are a friendly club that always welcomes guest
 s and new members.  Come out and dance with us to area DJs playing be
 ach, shag, boogie, and swing music.  Bring a friend; the more the mer
 rier.  Good food and beverages available. \n\nFor more information v
 isit https://vbnightlife.com/events/virginia-beach-shag-club-mix-mingl
 e-7
DTSTART:20160126T233000Z
DTEND:20160127T030000Z
CATEGORIES:dance, social
LOCATION:The Banque Restaurant
WEBSITE:http://vbshagclub@aol.com
URL:http://vbshagclub@aol.com
CONTACT:7574827733
ORGANIZER;CN="Rick Underhill":https://vbnightlife.com/profile/RickUnde
 rhill
ATTACH;FMTTYPE="image/jpeg":
ATTENDEE;ROLE=REQ-PARTICIPANT;PARTSTAT=ACCEPTED;RSVP=TRUE;CN="Rick Und
 erhill":https://vbnightlife.com/profile/RickUnderhill
END:VEVENT
END:VCALENDAR
