BEGIN:VCALENDAR
PRODID:NingEventWidget-v1
VERSION:2.0
METHOD:PUBLISH
BEGIN:VEVENT
UID:2508951:Event:324236
DTSTAMP:20260423T052831Z
SUMMARY:Virginia Beach Shag Club Mix & Mingle
DESCRIPTION:This is the weekly Va Beach Shag Club mix and mingle socia
 l. Free Carolina Shag dance and line dance lessons start at 6:30 PM an
 d open dancing to area DJs playing beach, shag, boogie, and swing musi
 c starts at 7:30.  Come out and learn to dance. Our instructors are s
 ome of the best dancers in the area, and are enthusiastic about teachi
 ng dance at beginner and intermediate levels. Cover charge is $6 for m
 embers and $9 for guests.\n\nFor more information visit https://vbnigh
 tlife.com/events/virginia-beach-shag-club-mix-mingle-6
DTSTART:20160119T233000Z
DTEND:20160120T030000Z
CATEGORIES:nightlife
LOCATION:The Banque Restaurant
WEBSITE:http://vbshagclub@aol.com
URL:http://vbshagclub@aol.com
CONTACT:7574827733
ORGANIZER;CN="Rick Underhill":https://vbnightlife.com/profile/RickUnde
 rhill
ATTACH;FMTTYPE="image/jpeg":
ATTENDEE;ROLE=REQ-PARTICIPANT;PARTSTAT=ACCEPTED;RSVP=TRUE;CN="Rick Und
 erhill":https://vbnightlife.com/profile/RickUnderhill
END:VEVENT
END:VCALENDAR
