BEGIN:VCALENDAR
PRODID:NingEventWidget-v1
VERSION:2.0
METHOD:PUBLISH
BEGIN:VEVENT
UID:2508951:Event:322557
DTSTAMP:20260423T151914Z
SUMMARY:Virginia Beach Shag Club Mix & Mingle
DESCRIPTION:This is the event of the week for Carolina Shaggers. Come 
 out every Tuesday and dance the Carolina Shag and East and West Coast 
 swing to famous area DJs. We have great time and everyone goes home ha
 ppy.  Free dance lessons start at 6:30 PM.  Admission is $6 for club
  and sister club members, $9 for quests, who are always welcome.  Put
  your dancing shoes on!!!!!\n\nFor more information visit https://vbni
 ghtlife.com/events/virginia-beach-shag-club-mix-mingle-3
DTSTART:20151215T233000Z
DTEND:20151216T030000Z
CATEGORIES:social, nightlife
LOCATION:The Banque Restaurant
WEBSITE:http://vbshagclub@aol.com
URL:http://vbshagclub@aol.com
CONTACT:7574827733
ORGANIZER;CN="Rick Underhill":https://vbnightlife.com/profile/RickUnde
 rhill
ATTACH;FMTTYPE="image/jpeg":
ATTENDEE;ROLE=REQ-PARTICIPANT;PARTSTAT=ACCEPTED;RSVP=TRUE;CN="Rick Und
 erhill":https://vbnightlife.com/profile/RickUnderhill
END:VEVENT
END:VCALENDAR
