BEGIN:VCALENDAR
PRODID:NingEventWidget-v1
VERSION:2.0
METHOD:PUBLISH
BEGIN:VEVENT
UID:2508951:Event:333566
DTSTAMP:20260422T163304Z
SUMMARY:Virginia Beach Shag Club Mix & Mingle
DESCRIPTION:This Tuesday is a special even for the Va Beach Shag Club.
  We have live music by the Janitors as well as DJ music during the bre
 aks.  We are a fun group that always welcomes guests to dance the Car
 olina Shag and line dances with us.  This event happens every Tuesday
 , and needs to be on your calendar if you like good music, good people
  and having a good time. Come out and join us.  You will not be disap
 pointed.\n\nFor more information visit https://vbnightlife.com/events/
 virginia-beach-shag-club-mix-mingle-10
DTSTART:20160216T233000Z
DTEND:20160217T030000Z
CATEGORIES:nightlife
LOCATION:The Banque Restaurant
WEBSITE:http://vbshagclub@aol.com
URL:http://vbshagclub@aol.com
CONTACT:7574827733
ORGANIZER;CN="Rick Underhill":https://vbnightlife.com/profile/RickUnde
 rhill
ATTACH;FMTTYPE="image/jpeg":http://storage.ning.com/topology/rest/1.0/
 file/get/1664304601?profile=original
ATTENDEE;ROLE=REQ-PARTICIPANT;PARTSTAT=ACCEPTED;RSVP=TRUE;CN="Rick Und
 erhill":https://vbnightlife.com/profile/RickUnderhill
END:VEVENT
END:VCALENDAR
