BEGIN:VCALENDAR
PRODID:NingEventWidget-v1
VERSION:2.0
METHOD:PUBLISH
BEGIN:VEVENT
UID:2508951:Event:163338
DTSTAMP:20260420T150328Z
SUMMARY:Virginia Beach Forum Presents: Howard Fineman
DESCRIPTION:Each year at the Sandler Center, the Forum presents three,
  thought-provoking public figures that in different ways help shape Am
 erican thought and opinion. After each presentation, speakers engage t
 he audience in a question and answer session.\n \nSponsor and PURCHA
 SE THE ENTIRE SEASON HERE  Be sure to choose membership level \"Subs
 criber\" and use discount code VBNL to recieve the entire season for o
 nly $90.  (Each individual ticket will be $62 if purchased thru the S
 andler Center Box Office)\n \nPURCHASE INDIVIDUAL TICKETS HERE (no a
 pplicable discount code)\n \n \nDave Parker with WNIS will be intro
 ducing Howard Fineman.  Show time is 7:45 firm, with doors opening we
 ll before. There is a speaker reception prior to the event (6:30) for 
 those folks who sponsored at that level.  \n\nNov 16, 2011 - HOWARD F
 INEMAN - editorial director of The Huffington Post Media Group, mainta
 ins a role as an analyst for NBC and MSNBC.  \nHoward Fineman got his
  start by spending 7 years at the Louisville Courier-Journal, the las
 t two of which in the Washington, DC bureau. In 1980 he left to join 
 Newsweek as a political correspondent, where he remained until his 20
 10 migration to the on-line entity Huffington Post.\nFineman regularl
 y offers his political analysis on various NBC franchises, including 
 Hardball with Chris Matthews, The News with Brian Williams, The Toda
 y Show and Dateline, not to mention the radio show Imus in the Morn
 ing.\n \nUPCOMING FORUM EVENTS:\nFeb 29, 2012 - SCOTT TUROW - writer 
 and attorney; has frequently contributed essays and op-ed pieces to pr
 estigious publications, has won many literary awards, works as an atto
 rney concentrating on white collar criminal defense\n \nApril 4, 2012
  - MIA FARROW - daughter of Hollywood royalty, she devoted her life to
  humanitarian efforts as seen through her awareness of the genocide oc
 curring in Darfur and the care of a truly remarkable family as reflect
 ed in her elegant memoir which reveals her personal struggles and succ
 esses, and the quest to find deeper meaning in her life\n \n\n \n\n\
 nFor more information visit https://vbnightlife.com/events/virginia-be
 ach-forum-presents-howard-fineman
DTSTART:20111116T233000Z
DTEND:20111117T040000Z
CATEGORIES:"virginia beach events", "virginia beach entertainment", "t
 hought provoking evntertainment", "virginia beach political forum", "v
 irginia beach opinion forum"
LOCATION:Sandler Center for the Performing Arts
WEBSITE:http://www.vabeachforum.com
URL:http://www.vabeachforum.com
CONTACT:
ORGANIZER:VBnightlife.com / VBdaylife.com
ATTACH;FMTTYPE="image/jpeg":http://storage.ning.com/topology/rest/1.0/
 file/get/1664149138?profile=original
ATTENDEE;ROLE=REQ-PARTICIPANT;PARTSTAT=ACCEPTED;RSVP=TRUE;CN="Rolan St
 ears":https://vbnightlife.com/profile/RolanStears
ATTENDEE;ROLE=REQ-PARTICIPANT;PARTSTAT=ACCEPTED;RSVP=TRUE;CN="VBnightl
 ife.com":https://vbnightlife.com/profile/admin
END:VEVENT
END:VCALENDAR
