BEGIN:VCALENDAR
PRODID:NingEventWidget-v1
VERSION:2.0
METHOD:PUBLISH
BEGIN:VEVENT
UID:2508951:Event:285769
DTSTAMP:20260423T062131Z
SUMMARY:VIRGINIA BEACH EVENTS - FRIDAY MAY 30, 2014 click here
DESCRIPTION:\n5th Street Stage - The Band Perry - Patriotic Festival\
 n7th STREET STAGE - VB \"DAHNA ROWE\" 7pm\n17th STREET STAGE - VB \"MI
 KE PROFFITT\" 8pm\n24th STREET STAGE - VB \"USAF BLUE ACES\" 8pm\nBone
 shakers Sports Bar and Grill - \nCalypso - Cody Austin Band 7pm\nChop
 s - RnR Band 6 to 9pm\nCP Shuckers (oceanfront) - Pete Hansen and Larr
 y Emanuel 6 to 8pm\nFlip Flops - VB \"BRAIN SEWELL\"\nFroggies - VB \"
 BORDERLINE CRAZY ACOUSTIC\" 9pm\nGrumpy's - VB \"WHITE TRASH CIRCUS\nJ
 ager's - The River Boys\\nLighthouse - 12th St - VB \"ED KELLEHER\" 8-
 11pm\n\nMango's Beach Bar and Grill - Red Stapler\nPoppa's Pub - VB \"
 BLUE LORDS\n\nScandal's - Tailgate Down 9pm\nSneeky Petes - VB \"ASPHA
 LT JUNGLE\"\nSouth Beach Grill - VB \"BIGGER DREAM\nTapped Gastropub -
  VB \"LEWIS McGEHEE\nWaterman's - Attic is open for the Patriotic Fest
 ival Concerts and DJ Rays spinning for the after party\n\nSpecial Even
 ts:\n JUMPING FOR A PURPOSE - WOUNDED WEAR BENEFIT\nMt Trashmore Summ
 er Carnival\n\n\nFor more information visit https://vbnightlife.com/ev
 ents/virginia-beach-events-friday-may-30-2014-click-here
DTSTART:20140530T040000Z
DTEND:20140531T035900Z
CATEGORIES:band, "/", dj
LOCATION:VIRGINIA BEACH
WEBSITE:
URL:
CONTACT:
ORGANIZER;CN="VBnightlife.com":https://vbnightlife.com/profile/admin
ATTACH;FMTTYPE="image/jpeg":http://storage.ning.com/topology/rest/1.0/
 file/get/1664106655?profile=original
ATTENDEE;ROLE=REQ-PARTICIPANT;PARTSTAT=ACCEPTED;RSVP=TRUE;CN="VBnightl
 ife.com":https://vbnightlife.com/profile/admin
END:VEVENT
END:VCALENDAR
