BEGIN:VCALENDAR
PRODID:NingEventWidget-v1
VERSION:2.0
METHOD:PUBLISH
BEGIN:VEVENT
UID:2508951:Event:300587
DTSTAMP:20260422T235536Z
SUMMARY:VIRGINIA BEACH CHOCOLATE FESTIVAL
DESCRIPTION:PURCHASE YOUR DISCOUNTED VOUCHER FOR A LIMITED TIME ON ww
 w.VBhotdeals.com\nWhy we love this Event?\n\nThe Virginia Beach Chocol
 ate Festival is a two day event dedicated to chocolate and our love of
  chocolate.\nEnjoy a variety of chocolate artisans and vendors at the 
 festival.\nWine and liquor sampling with chocolate wine and 3 Olives V
 odka\nFree Goodie bag filled with samples and coupons\nAttend demonstr
 ations and workshops throughout the day.\nLearn techniques for cooking
  with chocolate, how to pair chocolate with beverages and many other t
 ips.\nBuy and sample a wide variety of chocolates\nPerfect for early h
 oliday gift shopping\nCooking demonstrations\nFree Goodie bag filled w
 ith samples and coupons\nNew this year for the holidays we are adding 
 a Gingerbread House section!!\nThe Virginia Beach Chocolate Festival w
 ill have chocolate in all forms from sweet to savory.\nWhen: November 
 15th and 16th 11am to 5pm at the Virginia Beach Convention center\nUse
  your voucher either day\nA portion of proceeds benefit animal rescue 
 thru thie Princess Anne Hunt Club Foundation\nGreat event for all ages
  \nOnly a limited number will be sold at this price\n\nSupport Locall
 y Owned Businesses! Here is a partial list of participants:\n\nSchakol
 ade Chocolate Factory\nThe Royal Chocolate\nTwisted Sister Cupcakes\nW
 illie Byrd Dark Chocolate Sauce\nVirginia Cullinary Institute\nThe Mel
 ting Pot\nPennacook Peppers\nJody's Gourmet Popcorn\nOberweis Dairy\n\
 nIf you would like to participate as a vendor contact Donna at 757 57
 4 6310\n \nWhat's the Catch?\n\nUse your voucher either day\nPurchase
  as many as you like\nChildren 3 and under are free\n\n\n\n\nFor more 
 information visit https://vbnightlife.com/events/virginia-beach-chocol
 ate-festival-1
DTSTART:20141116T160000Z
DTEND:20141116T220000Z
CATEGORIES:fundraiser, "chocolate festival"
LOCATION:VIRGINIA BEACH CONVENTION CENTER
WEBSITE:
URL:
CONTACT:
ORGANIZER;CN="VBnightlife.com":https://vbnightlife.com/profile/admin
ATTACH;FMTTYPE="image/jpeg":http://storage.ning.com/topology/rest/1.0/
 file/get/1664252803?profile=original
ATTENDEE;ROLE=REQ-PARTICIPANT;PARTSTAT=ACCEPTED;RSVP=TRUE;CN="VBnightl
 ife.com":https://vbnightlife.com/profile/admin
END:VEVENT
END:VCALENDAR
