BEGIN:VCALENDAR
PRODID:NingEventWidget-v1
VERSION:2.0
METHOD:PUBLISH
BEGIN:VEVENT
UID:2508951:Event:16512
DTSTAMP:20260421T084314Z
SUMMARY:VINYL HEADLIGHTS @ SOUTH BEACH GRILL
DESCRIPTION:9:00TO 1:30\n\nFor more information visit https://vbnightl
 ife.com/events/vinyl-headlights-south-beach-3
DTSTART:20111019T040000Z
DTEND:20111020T035900Z
CATEGORIES:band, "/", dj
LOCATION:Virginia Beach
WEBSITE:
URL:
CONTACT:
ORGANIZER;CN="VBnightlife.com":https://vbnightlife.com/profile/admin
ATTACH;FMTTYPE="image/jpeg":http://storage.ning.com/topology/rest/1.0/
 file/get/1664077278?profile=original
ATTENDEE;ROLE=REQ-PARTICIPANT;PARTSTAT=ACCEPTED;RSVP=TRUE;CN="VBnightl
 ife.com":https://vbnightlife.com/profile/admin
END:VEVENT
END:VCALENDAR
