BEGIN:VCALENDAR
PRODID:NingEventWidget-v1
VERSION:2.0
METHOD:PUBLISH
BEGIN:VEVENT
UID:2508951:Event:10782
DTSTAMP:20260425T160325Z
SUMMARY:VINYL HEADLIGHTS @ SOUTH BEACH GRILL
DESCRIPTION:9pm\n\nFor more information visit https://vbnightlife.com/
 events/vinyl-headlights-south-beach-1
DTSTART:20090408T220000Z
DTEND:20090408T230000Z
CATEGORIES:band
LOCATION:South Beach Grill
WEBSITE:
URL:
CONTACT:
ORGANIZER;CN="Nicole Maxino":https://vbnightlife.com/profile/NicoleMax
 ino
ATTACH;FMTTYPE="image/jpeg":http://storage.ning.com/topology/rest/1.0/
 file/get/1664072371?profile=original
ATTENDEE;ROLE=REQ-PARTICIPANT;PARTSTAT=ACCEPTED;RSVP=TRUE;CN="Nicole M
 axino":https://vbnightlife.com/profile/NicoleMaxino
END:VEVENT
END:VCALENDAR
