BEGIN:VCALENDAR
PRODID:NingEventWidget-v1
VERSION:2.0
METHOD:PUBLISH
BEGIN:VEVENT
UID:2508951:Event:13924
DTSTAMP:20260420T204107Z
SUMMARY:VINYL HEADLIGHTS @ DIESEL
DESCRIPTION:New bar around the corner from Boneshakers\n\nFor more inf
 ormation visit https://vbnightlife.com/events/vinyl-headlights-diesel
DTSTART:20090527T040000Z
DTEND:20090528T035900Z
CATEGORIES:band
LOCATION:Diesel
WEBSITE:
URL:
CONTACT:
ORGANIZER;CN="Nicole Maxino":https://vbnightlife.com/profile/NicoleMax
 ino
ATTACH;FMTTYPE="image/jpeg":http://storage.ning.com/topology/rest/1.0/
 file/get/1664074913?profile=original
ATTENDEE;ROLE=REQ-PARTICIPANT;PARTSTAT=ACCEPTED;RSVP=TRUE;CN="Nicole M
 axino":https://vbnightlife.com/profile/NicoleMaxino
END:VEVENT
END:VCALENDAR
