BEGIN:VCALENDAR
PRODID:NingEventWidget-v1
VERSION:2.0
METHOD:PUBLISH
BEGIN:VEVENT
UID:2508951:Event:9932
DTSTAMP:20260425T173011Z
SUMMARY:VINYL HEADLIGHTS @ CROCS
DESCRIPTION:$1.50 Corona Lights on the Patio, free parking, bike racks
 , outdoor terraces, late night food bar\n\nFor more information visit 
 https://vbnightlife.com/events/vinyl-headlights-crocs-1
DTSTART:20090409T040000Z
DTEND:20090410T035900Z
CATEGORIES:band
LOCATION:Crocs
WEBSITE:
URL:
CONTACT:
ORGANIZER:Crocs
ATTACH;FMTTYPE="image/jpeg":http://storage.ning.com/topology/rest/1.0/
 file/get/1664070281?profile=original
ATTENDEE;ROLE=REQ-PARTICIPANT;PARTSTAT=ACCEPTED;RSVP=TRUE;CN="Nicole M
 axino":https://vbnightlife.com/profile/NicoleMaxino
END:VEVENT
END:VCALENDAR
